BEGIN:VCALENDAR
VERSION:2.0
PRODID:-//ChamberMaster//Event Calendar 2.0//EN
METHOD:PUBLISH
X-PUBLISHED-TTL:P3D
REFRESH-INTERVAL:P3D
CALSCALE:GREGORIAN
BEGIN:VEVENT
DTSTART:20140311T220000Z
DTEND:20140312T010000Z
X-MICROSOFT-CDO-ALLDAYEVENT:FALSE
SUMMARY:Trustway Amazing Credit!
DESCRIPTION:What would it be like if you had perfect credit? How many thousands of dollars would you save by not overpaying in interest? Could you get that home loan you've wanted? The new car of your dreams? Without good credit\, life can be much more difficult and expensive. This class teaches you all about credit: how it works\, how to fix it if it's broken\, how to build it if you don't have enough and how to protect it if you already have good credit. Stop wasting thousands of dollars and opportunities. With this class\, you get: 1. A copy of the Amazing Credit book which has everything you needed to know about credit. 2. A personalized coaching session after the class where your coach will walk you through YOUR credit report and show you what you can do to get your credit on the right track.(This alone is a $275 value) Tuition: $249.00 Register: https://amazingcredit311.eventbrite.com
X-ALT-DESC;FMTTYPE=text/html:What would it be like if you had perfect credit? How many thousands of dollars would you save by not overpaying in interest? Could you get that home loan you&#39\;ve wanted? The new car of your dreams? Without good credit\, life can be much more difficult and expensive. This class teaches you all about credit: how it works\, how to fix it if it&#39\;s broken\, how to build it if you don&#39\;t have enough and how to protect it if you already have good credit. Stop wasting thousands of dollars and opportunities. With this class\, you get: 1. A copy of the Amazing Credit book which has everything you needed to know about credit. 2. A personalized coaching session after the class where your coach will walk you through YOUR credit report and show you what you can do to get your credit on the right track.(This alone is a $275 value) Tuition: $249.00 Register: https://amazingcredit311.eventbrite.com
LOCATION:Trustway 1837 Montgomery Hwy S Suite 105 Hoover\, AL 35244
UID:e.145.5094
SEQUENCE:3
DTSTAMP:20260423T200815Z
URL:https://business.shelbychamber.org/events/details/trustway-amazing-credit-03-11-2014-5094
END:VEVENT

END:VCALENDAR
