BEGIN:VCALENDAR
VERSION:2.0
PRODID:-//ChamberMaster//Event Calendar 2.0//EN
METHOD:PUBLISH
X-PUBLISHED-TTL:P3D
REFRESH-INTERVAL:P3D
CALSCALE:GREGORIAN
BEGIN:VEVENT
DTSTART:20131108T220000Z
DTEND:20131109T010000Z
X-MICROSOFT-CDO-ALLDAYEVENT:FALSE
SUMMARY:Trustway Grand Re-Opening
DESCRIPTION:Join us at our new office on November 8th\, 2013 for the Grand Re-Opening of our newest office.\n\n\n\nWe'll be having fun\, food and friends! Bring a friend and enjoy a live DJ\, games and food from some amazing restaurants. We'll be giving away some great prizes!\n\n\n\nWe'll be hosting a ribbon cutting with representatives from Church of the Highlands\, the City of Hoover\, the Greater Hoover Area Chamber of Commerce and the Greater Shelby County Chamber of Commerce. Come mix and mingle for an amazing time.\n\n\n\nPlease RSVP to 205-451-1945 or Beth@ADefinitePlan.com and let us know you're coming.
X-ALT-DESC;FMTTYPE=text/html:<span style="color: rgb(53\, 53\, 53)\; font-family: &quot\;Georgia&quot\;\,&quot\;serif&quot\;\; font-size: 14.5pt\; mso-fareast-font-family: &quot\;Times New Roman&quot\;\; mso-bidi-font-family: &quot\;Times New Roman&quot\;\; mso-ansi-language: EN-US\; mso-fareast-language: EN-US\; mso-bidi-language: AR-SA\;">Join us at our new office on November 8th\, 2013 for the Grand Re-Opening of our newest office.<br />\n<br />\nWe&#39\;ll be having fun\, food and friends! Bring a friend and enjoy a live DJ\, games and food from some amazing restaurants. We&#39\;ll be giving away some great prizes!<br />\n<br />\nWe&#39\;ll be hosting a ribbon cutting with representatives from Church of the Highlands\, the City of Hoover\, the Greater Hoover Area Chamber of Commerce and the Greater Shelby County Chamber of Commerce. Come mix and mingle for an amazing time.<br />\n<br />\nPlease RSVP to 205-451-1945 or <a href="mailto:Beth@ADefinitePlan.com"><font color="#0000ff">Beth@ADefinitePlan.com</font></a> and let us know you&#39\;re coming.</span>
LOCATION:1837 Montgomery Hwy\, Ste 105\, Hoover\, AL 35244
UID:e.145.4896
SEQUENCE:3
DTSTAMP:20260424T020550Z
URL:https://business.shelbychamber.org/events/details/trustway-grand-re-opening-11-08-2013-4896
END:VEVENT

END:VCALENDAR
