BEGIN:VCALENDAR
VERSION:2.0
PRODID:-//ChamberMaster//Event Calendar 2.0//EN
METHOD:PUBLISH
X-PUBLISHED-TTL:P3D
REFRESH-INTERVAL:P3D
CALSCALE:GREGORIAN
BEGIN:VEVENT
DTSTART:20130313T140000Z
DTEND:20130313T170000Z
X-MICROSOFT-CDO-ALLDAYEVENT:FALSE
SUMMARY:Trustway Money Coaching presents 7.5 Strategies of the Wealthy
DESCRIPTION:What are the wealthy doing that you're not? In this workshop\, you will learn that strategies that the wealthy have used for generations to continue to grow and build their familes' wealth while the rest of America's wealth has been dwindling. Many of the strategies you will learn are easy to understand and implement and can make an immediate impact on your life.
X-ALT-DESC;FMTTYPE=text/html:What are the wealthy doing that you&#39\;re not? In this workshop\, you will learn that strategies that the wealthy have used for generations to continue to grow and build their familes&#39\; wealth while the rest of America&#39\;s wealth has been dwindling. Many of the strategies you will learn are easy to understand and implement and can make an immediate impact on your life.
LOCATION:Trustway 1845 Montgomery Hwy S Suite 233 Hoover\, AL 35244
UID:e.145.4546
SEQUENCE:3
DTSTAMP:20260424T160209Z
URL:https://business.shelbychamber.org/events/details/trustway-money-coaching-presents-7-5-strategies-of-the-wealthy-03-13-2013-4546
END:VEVENT

END:VCALENDAR
