BEGIN:VCALENDAR
VERSION:2.0
PRODID:-//ChamberMaster//Event Calendar 2.0//EN
METHOD:PUBLISH
X-PUBLISHED-TTL:P3D
REFRESH-INTERVAL:P3D
CALSCALE:GREGORIAN
BEGIN:VEVENT
DTSTART:20130115T150000Z
DTEND:20130115T180000Z
X-MICROSOFT-CDO-ALLDAYEVENT:FALSE
SUMMARY:Trustway Money Coaching presents Amazing Credit!
DESCRIPTION:This class teaches you all about credit: how it works\, how to fix it if it's broken\, how to build it if you don't have enough and how to protect it if you already have good credit.\n\n\n\nWith this class\, you get:\n\n1. A copy of the Amazing Credit book which has everything you needed to know about credit.\n\n2. A personalized coaching session after the class where your coach will walk you through YOUR credit report and show you what you can do to get your credit on the right track.  (This alone is a $275 value)\n\n\n\nRegister online at amazingcredit.eventbrite.com or call us 205.451.1945!
X-ALT-DESC;FMTTYPE=text/html:This class teaches you all about credit: how it works\, how to fix it if it&#39\;s broken\, how to build it if you don&#39\;t have enough and how to protect it if you already have good credit.<br />\n<br />\nWith this class\, you get:<br />\n1. A copy of the Amazing Credit book which has everything you needed to know about credit.<br />\n2. A personalized coaching session after the class where your coach will walk you through YOUR credit report and show you what you can do to get your credit on the right track.&nbsp\; (This alone is a $275 value)<br />\n<br />\nRegister online at <a href="http://amazingcredit.eventbrite.com">amazingcredit.eventbrite.com</a> or call us 205.451.1945!<br />\n<br />\n<br />\n
LOCATION:Trustway 1845 Montgomery Hwy S Suite 233 Hoover\, AL 35244
UID:e.145.4444
SEQUENCE:3
DTSTAMP:20260424T202210Z
URL:https://business.shelbychamber.org/events/details/trustway-money-coaching-presents-amazing-credit-01-15-2013-4444
END:VEVENT

END:VCALENDAR
