BEGIN:VCALENDAR
VERSION:2.0
PRODID:-//ChamberMaster//Event Calendar 2.0//EN
METHOD:PUBLISH
X-PUBLISHED-TTL:P3D
REFRESH-INTERVAL:P3D
CALSCALE:GREGORIAN
BEGIN:VEVENT
DTSTART:20130323T140000Z
DTEND:20130323T170000Z
X-MICROSOFT-CDO-ALLDAYEVENT:FALSE
SUMMARY:Trustway Money Coaching presents Amazing Credit!
DESCRIPTION:Normal\n  0\n  \n  \n  false\n  false\n  false\n  \n   \n   \n   \n   \n   \n   \n  \n  MicrosoftInternetExplorer4\n \n\n \n \n\n\n /* Style Definitions */\n table.MsoNormalTable\n	{mso-style-name:"Table Normal"\;\n	mso-tstyle-rowband-size:0\;\n	mso-tstyle-colband-size:0\;\n	mso-style-noshow:yes\;\n	mso-style-parent:""\;\n	mso-padding-alt:0in 5.4pt 0in 5.4pt\;\n	mso-para-margin:0in\;\n	mso-para-margin-bottom:.0001pt\;\n	mso-pagination:widow-orphan\;\n	font-size:10.0pt\;\n	font-family:"Times New Roman"\;\n	mso-fareast-font-family:"Times New Roman"\;\n	mso-ansi-language:#0400\;\n	mso-fareast-language:#0400\;\n	mso-bidi-language:#0400\;}\n\nThis class teaches you all about credit: how it works\, how to fix it if it's broken\, how to build it if you don't have enough and how to protect it if you already have good credit.\n\n\n\n With this class\, you get:\n\n1. A copy of the Amazing Credit book which has everything you needed to know about credit.\n\n2. A personalized coaching session after the class where your coach will walk you through YOUR credit report and show you what you can do to get your credit on the right track.  (This alone is a $275 value)\n\n\n\nRegister online at amazingcredit.eventbrite.com or call us 205.451.1945!
X-ALT-DESC;FMTTYPE=text/html:<!--[if gte mso 9]><xml>\n <w:WordDocument>\n  <w:View>Normal</w:View>\n  <w:Zoom>0</w:Zoom>\n  <w:PunctuationKerning/>\n  <w:ValidateAgainstSchemas/>\n  <w:SaveIfXMLInvalid>false</w:SaveIfXMLInvalid>\n  <w:IgnoreMixedContent>false</w:IgnoreMixedContent>\n  <w:AlwaysShowPlaceholderText>false</w:AlwaysShowPlaceholderText>\n  <w:Compatibility>\n   <w:BreakWrappedTables/>\n   <w:SnapToGridInCell/>\n   <w:WrapTextWithPunct/>\n   <w:UseAsianBreakRules/>\n   <w:DontGrowAutofit/>\n   <w:UseFELayout/>\n  </w:Compatibility>\n  <w:BrowserLevel>MicrosoftInternetExplorer4</w:BrowserLevel>\n </w:WordDocument>\n</xml><![endif]--><!--[if gte mso 9]><xml>\n <w:LatentStyles DefLockedState="false" LatentStyleCount="156">\n </w:LatentStyles>\n</xml><![endif]--><!--[if gte mso 10]>\n<style>\n /* Style Definitions */\n table.MsoNormalTable\n	{mso-style-name:"Table Normal"\;\n	mso-tstyle-rowband-size:0\;\n	mso-tstyle-colband-size:0\;\n	mso-style-noshow:yes\;\n	mso-style-parent:""\;\n	mso-padding-alt:0in 5.4pt 0in 5.4pt\;\n	mso-para-margin:0in\;\n	mso-para-margin-bottom:.0001pt\;\n	mso-pagination:widow-orphan\;\n	font-size:10.0pt\;\n	font-family:"Times New Roman"\;\n	mso-fareast-font-family:"Times New Roman"\;\n	mso-ansi-language:#0400\;\n	mso-fareast-language:#0400\;\n	mso-bidi-language:#0400\;}\n</style>\n<![endif]--><span class="cmeditorfix"><span style="font-size:12.0pt\;\nfont-family:&quot\;Times New Roman&quot\;\;mso-fareast-font-family:&quot\;MS Mincho&quot\;\;mso-ansi-language:\nEN-US\;mso-fareast-language:JA\;mso-bidi-language:AR-SA">This class teaches you all about credit: how it works\, how to fix it if it&#39\;s broken\, how to build it if you don&#39\;t have enough and how to protect it if you already have good credit.</span></span><br />\n<br />\n<span style="font-size:12.0pt\;font-family:&quot\;Times New Roman&quot\;\;mso-fareast-font-family:\n&quot\;MS Mincho&quot\;\;mso-ansi-language:EN-US\;mso-fareast-language:JA\;mso-bidi-language:\nAR-SA"> <span class="cmeditorfix">With this class\, you get:</span><br />\n<span class="cmeditorfix">1. A copy of the Amazing Credit book which has everything you needed to know about credit.</span><br />\n<span class="cmeditorfix">2. A personalized coaching session after the class where your coach will walk you through YOUR credit report and show you what you can do to get your credit on the right track.&nbsp\; (This alone is a $275 value)</span><br />\n<br />\n<span class="cmeditorfix">Register online at <a href="http://amazingcredit.eventbrite.com">amazingcredit.eventbrite.com</a> or call us 205.451.1945!</span></span>
LOCATION:Trustway 1845 Montgomery Hwy S Suite 233 Hoover\, AL 35244
UID:e.145.4455
SEQUENCE:3
DTSTAMP:20260424T153737Z
URL:https://business.shelbychamber.org/events/details/trustway-money-coaching-presents-amazing-credit-03-23-2013-4455
END:VEVENT

END:VCALENDAR
