BEGIN:VCALENDAR
VERSION:2.0
PRODID:-//ChamberMaster//Event Calendar 2.0//EN
METHOD:PUBLISH
X-PUBLISHED-TTL:P3D
REFRESH-INTERVAL:P3D
CALSCALE:GREGORIAN
BEGIN:VEVENT
DTSTART:20130509T220000Z
DTEND:20130510T010000Z
X-MICROSOFT-CDO-ALLDAYEVENT:FALSE
SUMMARY:Trustway Money Coaching presents Amazing Credit!
DESCRIPTION:This class teaches you all about credit: how it works\, how to fix it if it's broken\, how to build it if you don't have enough and how to protect it if you already have good credit.\n\n\n\nWith this class\, you get:\n\n1. A copy of the Amazing Credit book which has everything you needed to know about credit.\n\n2. A personalized coaching session after the class where your coach will walk you through YOUR credit report and show you what you can do to get your credit on the right track. (This alone is a $275 value)\n\n\n\nRegister online at amazingcredit.eventbrite.com or call us 205.451.1945!
X-ALT-DESC;FMTTYPE=text/html:<span class="cm_editor_fix"><span class="cmeditorfix"><span style="font-family: &quot\;Times New Roman&quot\;\; font-size: 12pt\; mso-fareast-font-family: &quot\;MS Mincho&quot\;\; mso-ansi-language: EN-US\; mso-fareast-language: JA\; mso-bidi-language: AR-SA\;">This class teaches you all about credit: how it works\, how to fix it if it&#39\;s broken\, how to build it if you don&#39\;t have enough and how to protect it if you already have good credit.</span></span><br />\n<br />\n<span style="font-family: &quot\;Times New Roman&quot\;\; font-size: 12pt\; mso-fareast-font-family: &quot\;MS Mincho&quot\;\; mso-ansi-language: EN-US\; mso-fareast-language: JA\; mso-bidi-language: AR-SA\;"><span class="cmeditorfix">With this class\, you get:</span><br />\n<span class="cmeditorfix">1. A copy of the Amazing Credit book which has everything you needed to know about credit.</span><br />\n<span class="cmeditorfix">2. A personalized coaching session after the class where your coach will walk you through YOUR credit report and show you what you can do to get your credit on the right track. (This alone is a $275 value)</span><br />\n<br />\n<span class="cmeditorfix">Register online at <a href="http://amazingcredit.eventbrite.com/"><font color="#3687c9">amazingcredit.eventbrite.com</font></a> or call us 205.451.1945!</span></span></span> 
LOCATION:1837 Montgomery Hwy S Suite 105 Hoover\, AL 35244
UID:e.145.4600
SEQUENCE:3
DTSTAMP:20260424T120526Z
URL:https://business.shelbychamber.org/events/details/trustway-money-coaching-presents-amazing-credit-05-09-2013-4600
END:VEVENT

END:VCALENDAR
