BEGIN:VCALENDAR
VERSION:2.0
PRODID:-//ChamberMaster//Event Calendar 2.0//EN
METHOD:PUBLISH
X-PUBLISHED-TTL:P3D
REFRESH-INTERVAL:P3D
CALSCALE:GREGORIAN
BEGIN:VEVENT
DTSTART:20130530T220000Z
DTEND:20130531T010000Z
X-MICROSOFT-CDO-ALLDAYEVENT:FALSE
SUMMARY:Trustway Money Coaching presents Become Debt Free!
DESCRIPTION:Are you struggling with becoming debt free?\n\n	\n\n	83% of Americans polled said they had no money left to save for retirement\, or even a vacation\, after they paid their monthly bills. How would it feel to be totally debt free?\n\n	\n\n	This class focuses on teaching you the core principles needed to get out of debt and stay that way. You'll come away with a specific plan to gain control of your future. Our average student has saved over $82\,000 with the Debt Avalanche  system.\n\n	\n\n	If you want to make an impact in your life today\, this is the class for you.\n\n	\n\n	To register\, go to http://bedebtfree.eventbrite.com/ or call 205.451.1945
X-ALT-DESC;FMTTYPE=text/html:<p class="MsoNormal">\n	<span style="color: rgb(51\, 51\, 51)\; font-family: Tahoma\; font-size: 10pt\; mso-bidi-font-size: 12.0pt\;">Are you struggling with becoming debt free?</span><br />\n	<br />\n	<span style="color: rgb(51\, 51\, 51)\; font-family: Tahoma\; font-size: 10pt\; mso-bidi-font-size: 12.0pt\;">83% of Americans polled said they had no money left to save for retirement\, or even a vacation\, after they paid their monthly bills. How would it feel to be totally debt free?</span><br />\n	<br />\n	<span style="color: rgb(51\, 51\, 51)\; font-family: Tahoma\; font-size: 10pt\; mso-bidi-font-size: 12.0pt\;">This class focuses on teaching you the core principles needed to get out of debt and stay that way. You&rsquo\;ll come away with a specific plan to gain control of your future. Our average student has saved over $82\,000 with the Debt Avalanche&trade\; system.</span><br />\n	<br />\n	<span style="color: rgb(51\, 51\, 51)\; font-family: Tahoma\; font-size: 10pt\; mso-bidi-font-size: 12.0pt\;">If you want to make an impact in your life today\, this is the class for you.</span><br />\n	<br />\n	<span style="color: rgb(51\, 51\, 51)\; font-family: Tahoma\; font-size: 10pt\; mso-bidi-font-size: 12.0pt\;">To register\, go to<a href="http://bedebtfree.eventbrite.com/"><font color="#3687c9"> http://bedebtfree.eventbrite.com/</font></a> or call 205.451.1945</span></p>\n
LOCATION:Trustway 1837 Montgomery Hwy S Suite 105 Hoover\, AL 35244
UID:e.145.4601
SEQUENCE:3
DTSTAMP:20260424T134806Z
URL:https://business.shelbychamber.org/events/details/trustway-money-coaching-presents-become-debt-free-05-30-2013-4601
END:VEVENT

END:VCALENDAR
