BEGIN:VCALENDAR
VERSION:2.0
PRODID:-//ChamberMaster//Event Calendar 2.0//EN
METHOD:PUBLISH
X-PUBLISHED-TTL:P3D
REFRESH-INTERVAL:P3D
CALSCALE:GREGORIAN
BEGIN:VEVENT
DTSTART:20130227T230000Z
DTEND:20130228T020000Z
X-MICROSOFT-CDO-ALLDAYEVENT:FALSE
SUMMARY:Trustway Money Coaching presents Debt Free!
DESCRIPTION:Are you struggling with becoming debt free?\n\n	\n\n	83% of Americans polled said they had no money left to save for retirement\, or even a vacation\, after they paid their monthly bills. How would it feel to be totally debt free?\n\n	\n\n	This class focuses on teaching you the core principles needed to get out of debt and stay that way. You'll come away with a specific plan to gain control of your future. Our average student has saved over $82\,000 with the Debt Avalanche  system.\n\n	\n\n	If you want to make an impact in your life today\, this is the class for you.\n\n	\n\n	To register\, go to http://bedebtfree.eventbrite.com/
X-ALT-DESC;FMTTYPE=text/html:<p class="MsoNormal">\n	<span class="fsl2"><span style="FONT-FAMILY: 'Tahoma'\,'sans-serif'\; COLOR: #333333\; FONT-SIZE: 10pt">Are you struggling with becoming debt free?</span></span><br />\n	<br />\n	<span style="FONT-FAMILY: 'Tahoma'\,'sans-serif'\; COLOR: #333333\; FONT-SIZE: 10pt"><span class="fsl2">83% of Americans polled said they had no money left to save for retirement\, or even a vacation\, after they paid their monthly bills. How would it feel to be totally debt free?</span><br />\n	<br />\n	<span class="fsl2">This class focuses on teaching you the core principles needed to get out of debt and stay that way. You&rsquo\;ll come away with a specific plan to gain control of your future. Our average student has saved over $82\,000 with the Debt Avalanche&trade\; system.</span><br />\n	<br />\n	<span class="fsl2">If you want to make an impact in your life today\, this is the class for you.</span><br />\n	<br />\n	<span class="fsl2">To register\, go to <a href="http://www.facebook.com/l.php?u=http%3A%2F%2Fbedebtfree.eventbright.com%2F&amp\;h=jAQGa-VJG&amp\;s=1" target="_blank" title="http://www.facebook.com/l.php?u=http%3A%2F%2Fbedebtfree.eventbright.com%2F&amp\;h=jAQGa-VJG&amp\;s=1">http://bedebtfree.eventbrite.com/</a></span></span></p>\n
LOCATION:Trustway 1845 Montgomery Hwy S Suite 233 Hoover\, AL 35244
UID:e.145.4476
SEQUENCE:3
DTSTAMP:20260424T171703Z
URL:https://business.shelbychamber.org/events/details/trustway-money-coaching-presents-debt-free-02-27-2013-4476
END:VEVENT

END:VCALENDAR
