BEGIN:VCALENDAR
VERSION:2.0
PRODID:-//ChamberMaster//Event Calendar 2.0//EN
METHOD:PUBLISH
X-PUBLISHED-TTL:P3D
REFRESH-INTERVAL:P3D
CALSCALE:GREGORIAN
BEGIN:VEVENT
DTSTART:20130316T140000Z
DTEND:20130316T170000Z
X-MICROSOFT-CDO-ALLDAYEVENT:FALSE
SUMMARY:Trustway Money Coaching presents Debt Free!
DESCRIPTION:Are you struggling with becoming debt free?\n\n	\n\n	83% of Americans polled said they had no money left to save for retirement\, or even a vacation\, after they paid their monthly bills. How would it feel to be totally debt free?\n\n	\n\n	This class focuses on teaching you the core principles needed to get out of debt and stay that way. You'll come away with a specific plan to gain control of your future. Our average student has saved over $82\,000 with the Debt Avalanche  system.\n\n	\n\n	If you want to make an impact in your life today\, this is the class for you.\n\n	\n\n	To register\, go to http://bedebtfree.eventbrite.com/ or call 205.451.1945
X-ALT-DESC;FMTTYPE=text/html:<p class="MsoNormal" style="line-height: 140%\; margin: 6pt 0in 0pt\; background: white\; mso-margin-bottom-alt: auto">\n	<span style="font-family: 'tahoma'\, 'sans-serif'\; color: #333333\; font-size: 10pt"><span class="fsl2"><span style="line-height: 140%\; font-family: tahoma\; color: #333333\; font-size: 10pt">Are you struggling with becoming debt free?</span></span><br />\n	<br />\n	<span class="fsl2"><span style="line-height: 140%\; font-family: tahoma\; color: #333333\; font-size: 10pt">83% of Americans polled said they had no money left to save for retirement\, or even a vacation\, after they paid their monthly bills. How would it feel to be totally debt free?</span></span><br />\n	<br />\n	<span style="line-height: 140%\; font-family: tahoma\; color: #333333\; font-size: 10pt"><span class="fsl2">This class focuses on teaching you the core principles needed to get out of debt and stay that way. You&rsquo\;ll come away with a specific plan to gain control of your future. Our average student has saved over $82\,000 with the Debt Avalanche&trade\; system.</span><br />\n	<br />\n	<span class="fsl2">If you want to make an impact in your life today\, this is the class for you.</span><br />\n	<br />\n	<span class="fsl2">To register\, go to </span></span><span class="fsl2"><span style="line-height: 140%\; font-family: tahoma\; color: #3687c9\; font-size: 10pt"><a href="http://bedebtfree.eventbrite.com/">http://bedebtfree.eventbrite.com/</a> </span></span><span style="line-height: 140%\; font-family: tahoma\; color: #333333\; font-size: 10pt">or call 205.451.1945</span><span style="font-family: verdana\; color: #666666"><o:p></o:p></span></span></p>\n
LOCATION:Trustway 1845 Montgomery Hwy S Suite 233 Hoover\, AL 35244
UID:e.145.4482
SEQUENCE:3
DTSTAMP:20260424T155435Z
URL:https://business.shelbychamber.org/events/details/trustway-money-coaching-presents-debt-free-03-16-2013-4482
END:VEVENT

END:VCALENDAR
