BEGIN:VCALENDAR
VERSION:2.0
PRODID:-//ChamberMaster//Event Calendar 2.0//EN
METHOD:PUBLISH
X-PUBLISHED-TTL:P3D
REFRESH-INTERVAL:P3D
CALSCALE:GREGORIAN
BEGIN:VEVENT
DTSTART:20130325T220000Z
DTEND:20130326T010000Z
X-MICROSOFT-CDO-ALLDAYEVENT:FALSE
SUMMARY:Trustway Money Coaching presents Debt Free!
DESCRIPTION:Normal\n  0\n  \n  \n  false\n  false\n  false\n  \n   \n   \n   \n   \n   \n   \n  \n  MicrosoftInternetExplorer4\n \n\n \n \n\n\n /* Style Definitions */\n table.MsoNormalTable\n	{mso-style-name:"Table Normal"\;\n	mso-tstyle-rowband-size:0\;\n	mso-tstyle-colband-size:0\;\n	mso-style-noshow:yes\;\n	mso-style-parent:""\;\n	mso-padding-alt:0in 5.4pt 0in 5.4pt\;\n	mso-para-margin:0in\;\n	mso-para-margin-bottom:.0001pt\;\n	mso-pagination:widow-orphan\;\n	font-size:10.0pt\;\n	font-family:"Times New Roman"\;\n	mso-fareast-font-family:"Times New Roman"\;\n	mso-ansi-language:#0400\;\n	mso-fareast-language:#0400\;\n	mso-bidi-language:#0400\;}\n\n\n\n	Are you struggling with becoming debt free?\n\n	\n\n	 83% of Americans polled said they had no money left to save for retirement\, or even a vacation\, after they paid their monthly bills. How would it feel to be totally debt free?\n\n	\n\n	 This class focuses on teaching you the core principles needed to get out of debt and stay that way. You'll come away with a specific plan to gain control of your future. Our average student has saved over $82\,000 with the Debt Avalanche  system.\n\n	\n\n	 If you want to make an impact in your life today\, this is the class for you.\n\n	\n\n	 To register\, go to http://bedebtfree.eventbrite.com/ or call 205.451.1945
X-ALT-DESC;FMTTYPE=text/html:<!--[if gte mso 9]><xml>\n <w:WordDocument>\n  <w:View>Normal</w:View>\n  <w:Zoom>0</w:Zoom>\n  <w:PunctuationKerning/>\n  <w:ValidateAgainstSchemas/>\n  <w:SaveIfXMLInvalid>false</w:SaveIfXMLInvalid>\n  <w:IgnoreMixedContent>false</w:IgnoreMixedContent>\n  <w:AlwaysShowPlaceholderText>false</w:AlwaysShowPlaceholderText>\n  <w:Compatibility>\n   <w:BreakWrappedTables/>\n   <w:SnapToGridInCell/>\n   <w:WrapTextWithPunct/>\n   <w:UseAsianBreakRules/>\n   <w:DontGrowAutofit/>\n   <w:UseFELayout/>\n  </w:Compatibility>\n  <w:BrowserLevel>MicrosoftInternetExplorer4</w:BrowserLevel>\n </w:WordDocument>\n</xml><![endif]--><!--[if gte mso 9]><xml>\n <w:LatentStyles DefLockedState="false" LatentStyleCount="156">\n </w:LatentStyles>\n</xml><![endif]--><!--[if gte mso 10]>\n<style>\n /* Style Definitions */\n table.MsoNormalTable\n	{mso-style-name:"Table Normal"\;\n	mso-tstyle-rowband-size:0\;\n	mso-tstyle-colband-size:0\;\n	mso-style-noshow:yes\;\n	mso-style-parent:""\;\n	mso-padding-alt:0in 5.4pt 0in 5.4pt\;\n	mso-para-margin:0in\;\n	mso-para-margin-bottom:.0001pt\;\n	mso-pagination:widow-orphan\;\n	font-size:10.0pt\;\n	font-family:"Times New Roman"\;\n	mso-fareast-font-family:"Times New Roman"\;\n	mso-ansi-language:#0400\;\n	mso-fareast-language:#0400\;\n	mso-bidi-language:#0400\;}\n</style>\n<![endif]-->\n<p class="MsoNormal">\n	<span style="font-size:10.0pt\;mso-bidi-font-size:12.0pt\;\nfont-family:Tahoma\;color:#333333">Are you struggling with becoming debt free?</span><br />\n	<br />\n	<span style="font-size:10.0pt\;font-family:Tahoma\;color:#333333"> </span><span style="font-size:10.0pt\;mso-bidi-font-size:12.0pt\;font-family:\nTahoma\;color:#333333">83% of Americans polled said they had no money left to save for retirement\, or even a vacation\, after they paid their monthly bills. How would it feel to be totally debt free?</span><br />\n	<br />\n	<span style="font-size:10.0pt\;\nfont-family:Tahoma\;color:#333333"> </span><span style="font-size:10.0pt\;mso-bidi-font-size:12.0pt\;font-family:\nTahoma\;color:#333333">This class focuses on teaching you the core principles needed to get out of debt and stay that way. You&rsquo\;ll come away with a specific plan to gain control of your future. Our average student has saved over $82\,000 with the Debt Avalanche&trade\; system.</span><br />\n	<br />\n	<span style="font-size:10.0pt\;\nfont-family:Tahoma\;color:#333333"> </span><span style="font-size:10.0pt\;mso-bidi-font-size:12.0pt\;font-family:\nTahoma\;color:#333333">If you want to make an impact in your life today\, this is the class for you.</span><br />\n	<br />\n	<span style="font-size:10.0pt\;font-family:Tahoma\;\ncolor:#333333"> </span><span style="font-size:10.0pt\;mso-bidi-font-size:12.0pt\;font-family:\nTahoma\;color:#333333">To register\, go to<a href="http://bedebtfree.eventbrite.com/"> http://bedebtfree.eventbrite.com/</a> or call 205.451.1945</span></p>\n
LOCATION:Trustway 1845 Montgomery Hwy S Suite 233 Hoover\, AL 35244
UID:e.145.4479
SEQUENCE:3
DTSTAMP:20260424T154425Z
URL:https://business.shelbychamber.org/events/details/trustway-money-coaching-presents-debt-free-03-25-2013-4479
END:VEVENT

END:VCALENDAR
