BEGIN:VCALENDAR
VERSION:2.0
PRODID:-//ChamberMaster//Event Calendar 2.0//EN
METHOD:PUBLISH
X-PUBLISHED-TTL:P3D
REFRESH-INTERVAL:P3D
CALSCALE:GREGORIAN
BEGIN:VEVENT
DTSTART:20130418T220000Z
DTEND:20130419T010000Z
X-MICROSOFT-CDO-ALLDAYEVENT:FALSE
SUMMARY:Trustway Money Coaching presents Debt Free!
DESCRIPTION:83% of Americans polled said they had no money left to save for retirement\, or even a vacation\, after they paid their monthly bills. How would it feel to be totally debt free?\n\n\n\nThis class focuses on teaching you the core principles needed to get out of debt and stay that way. You'll come away with a specific plan to gain control of your future. Our average student has saved over $82\,000 with the Debt Avalanche  system.\n\n\n\nIf you want to make an impact in your life today\, this is the class for you.\n\n\n\nTo register\, go to http://bedebtfree.eventbrite.com/ or call 205.451.1945
X-ALT-DESC;FMTTYPE=text/html:<span class="fsl2"><span style="font-family: tahoma\; color: #333333\; font-size: 10pt\; mso-fareast-font-family: 'ms mincho'\; mso-ansi-language: en-us\; mso-fareast-language: ja\; mso-bidi-language: ar-sa">83% of Americans polled said they had no money left to save for retirement\, or even a vacation\, after they paid their monthly bills. How would it feel to be totally debt free?</span></span><br />\n<br />\n<span style="font-family: tahoma\; color: #333333\; font-size: 10pt\; mso-fareast-font-family: 'ms mincho'\; mso-ansi-language: en-us\; mso-fareast-language: ja\; mso-bidi-language: ar-sa"><span class="fsl2">This class focuses on teaching you the core principles needed to get out of debt and stay that way. You&rsquo\;ll come away with a specific plan to gain control of your future. Our average student has saved over $82\,000 with the Debt Avalanche&trade\; system.</span><br />\n<br />\n<span class="fsl2">If you want to make an impact in your life today\, this is the class for you.</span><br />\n<br />\n<span class="fsl2">To register\, go to </span></span><span class="fsl2"><span style="font-family: tahoma\; color: #3687c9\; font-size: 10pt\; mso-fareast-font-family: 'ms mincho'\; mso-ansi-language: en-us\; mso-fareast-language: ja\; mso-bidi-language: ar-sa"><a href="http://bedebtfree.eventbrite.com/">http://bedebtfree.eventbrite.com/</a> </span></span><span style="font-family: tahoma\; color: #333333\; font-size: 10pt\; mso-fareast-font-family: 'ms mincho'\; mso-ansi-language: en-us\; mso-fareast-language: ja\; mso-bidi-language: ar-sa">or call 205.451.1945</span>
LOCATION:Trustway 1845 Montgomery Hwy S Suite 233 Hoover\, AL 35244
UID:e.145.4484
SEQUENCE:3
DTSTAMP:20260424T134629Z
URL:https://business.shelbychamber.org/events/details/trustway-money-coaching-presents-debt-free-04-18-2013-4484
END:VEVENT

END:VCALENDAR
