BEGIN:VCALENDAR
VERSION:2.0
PRODID:-//ChamberMaster//Event Calendar 2.0//EN
METHOD:PUBLISH
X-PUBLISHED-TTL:P3D
REFRESH-INTERVAL:P3D
CALSCALE:GREGORIAN
BEGIN:VEVENT
DTSTART:20130824T140000Z
DTEND:20130824T170000Z
X-MICROSOFT-CDO-ALLDAYEVENT:FALSE
SUMMARY:Trustway Money Coaching presents Financial Communication
DESCRIPTION:70% of married couples fight over money.  With money and communication being the leading cause of divorce today\, it's more important than ever that you learn how to communicate with each other and what your money styles are.  How do you spend and save and why?  This workshop will unlock all of the secrets behind why we are the way we are.\n\n	Tuition: $249.00\n\n	Register at: http://financialcommunication.eventbrite.com
X-ALT-DESC;FMTTYPE=text/html:<p>\n	70% of married couples fight over money.&nbsp\; With money and communication being the leading cause of divorce today\, it&#39\;s more important than ever that you learn how to communicate with each other and what your money styles are.&nbsp\; How do you spend and save and why?&nbsp\; This workshop will unlock all of the secrets behind why we are the way we are.</p>\n<p>\n	Tuition: $249.00</p>\n<p>\n	Register at: <a href="http://financialcommunication.eventbrite.com">http://financialcommunication.eventbrite.com</a></p>\n
LOCATION:1837 Montgomery Hwy S Suite 105 Hoover\, AL 35244
UID:e.145.4691
SEQUENCE:3
DTSTAMP:20260424T065504Z
URL:https://business.shelbychamber.org/events/details/trustway-money-coaching-presents-financial-communication-08-24-2013-4691
END:VEVENT

END:VCALENDAR
