BEGIN:VCALENDAR
VERSION:2.0
PRODID:-//ChamberMaster//Event Calendar 2.0//EN
METHOD:PUBLISH
X-PUBLISHED-TTL:P3D
REFRESH-INTERVAL:P3D
CALSCALE:GREGORIAN
BEGIN:VEVENT
DTSTART:20130423T140000Z
DTEND:20130423T170000Z
X-MICROSOFT-CDO-ALLDAYEVENT:FALSE
SUMMARY:Trustway Money Coaching presents Social Security Solutions
DESCRIPTION:Normal\n  0\n  \n  \n  false\n  false\n  false\n  \n   \n   \n   \n   \n   \n   \n  \n  MicrosoftInternetExplorer4\n \n\n \n \n\n\n /* Style Definitions */\n table.MsoNormalTable\n	{mso-style-name:"Table Normal"\;\n	mso-tstyle-rowband-size:0\;\n	mso-tstyle-colband-size:0\;\n	mso-style-noshow:yes\;\n	mso-style-parent:""\;\n	mso-padding-alt:0in 5.4pt 0in 5.4pt\;\n	mso-para-margin:0in\;\n	mso-para-margin-bottom:.0001pt\;\n	mso-pagination:widow-orphan\;\n	font-size:10.0pt\;\n	font-family:"Times New Roman"\;\n	mso-fareast-font-family:"Times New Roman"\;\n	mso-ansi-language:#0400\;\n	mso-fareast-language:#0400\;\n	mso-bidi-language:#0400\;}\n\n\n\n	It is critical that you receive all the benefits you deserve and take advantage of every resource available to you.\n\n	Many people do not understand Social Security\; what it is and how it works. There are several decisions that need to be made in order to maximize the benefit for your specific circumstances.\n\n	 This class can easily explain:\n\n	1. When it makes the most sense for you and/or your spouse to start receiving Social Security\n\n	2. The impact on your Social Security benefit if you work during retirement\n\n	3. How much of your Social Security will be taxed each year\n\n	4. Strategies to fill the income gap between what you receive from Social Security and the desired amount of income you would like to receive in your retirement years\n\n	 \n\n	Register at http://socialsecuritysolutions.eventbrite.com  or call us 205.451.1945
X-ALT-DESC;FMTTYPE=text/html:<!--[if gte mso 9]><xml>\n <w:WordDocument>\n  <w:View>Normal</w:View>\n  <w:Zoom>0</w:Zoom>\n  <w:PunctuationKerning/>\n  <w:ValidateAgainstSchemas/>\n  <w:SaveIfXMLInvalid>false</w:SaveIfXMLInvalid>\n  <w:IgnoreMixedContent>false</w:IgnoreMixedContent>\n  <w:AlwaysShowPlaceholderText>false</w:AlwaysShowPlaceholderText>\n  <w:Compatibility>\n   <w:BreakWrappedTables/>\n   <w:SnapToGridInCell/>\n   <w:WrapTextWithPunct/>\n   <w:UseAsianBreakRules/>\n   <w:DontGrowAutofit/>\n   <w:UseFELayout/>\n  </w:Compatibility>\n  <w:BrowserLevel>MicrosoftInternetExplorer4</w:BrowserLevel>\n </w:WordDocument>\n</xml><![endif]--><!--[if gte mso 9]><xml>\n <w:LatentStyles DefLockedState="false" LatentStyleCount="156">\n </w:LatentStyles>\n</xml><![endif]--><!--[if gte mso 10]>\n<style>\n /* Style Definitions */\n table.MsoNormalTable\n	{mso-style-name:"Table Normal"\;\n	mso-tstyle-rowband-size:0\;\n	mso-tstyle-colband-size:0\;\n	mso-style-noshow:yes\;\n	mso-style-parent:""\;\n	mso-padding-alt:0in 5.4pt 0in 5.4pt\;\n	mso-para-margin:0in\;\n	mso-para-margin-bottom:.0001pt\;\n	mso-pagination:widow-orphan\;\n	font-size:10.0pt\;\n	font-family:"Times New Roman"\;\n	mso-fareast-font-family:"Times New Roman"\;\n	mso-ansi-language:#0400\;\n	mso-fareast-language:#0400\;\n	mso-bidi-language:#0400\;}\n</style>\n<![endif]-->\n<p class="MsoNormal" style="mso-margin-top-alt:auto\;mso-margin-bottom-alt:auto">\n	<span style="font-size:11.0pt\;font-family:Calibri">It is critical that you receive all the benefits you deserve and take advantage of every resource available to you.<br />\n	Many people do not understand Social Security\; what it is and how it works. There are several decisions that need to be made in order to maximize the benefit for your specific circumstances.</span></p>\n<p class="MsoNormal" style="mso-margin-top-alt:auto\;mso-margin-bottom-alt:auto">\n	<span style="font-size:11.0pt\;font-family:Calibri">&nbsp\;This class can easily explain:</span></p>\n<p class="MsoNormal" style="mso-margin-top-alt:auto\;mso-margin-bottom-alt:auto">\n	<span style="font-size:11.0pt\;font-family:Calibri">1. When it makes the most sense for you and/or your spouse to start receiving Social Security</span></p>\n<p class="MsoNormal" style="mso-margin-top-alt:auto\;mso-margin-bottom-alt:auto">\n	<span style="font-size:11.0pt\;font-family:Calibri">2. The impact on your Social Security benefit if you work during retirement</span></p>\n<p class="MsoNormal" style="mso-margin-top-alt:auto\;mso-margin-bottom-alt:auto">\n	<span style="font-size:11.0pt\;font-family:Calibri">3. How much of your Social Security will be taxed each year</span></p>\n<p class="MsoNormal" style="mso-margin-top-alt:auto\;mso-margin-bottom-alt:auto">\n	<span style="font-size:11.0pt\;font-family:Calibri">4. Strategies to fill the income gap between what you receive from Social Security and the desired amount of income you would like to receive in your retirement years</span><br />\n	&nbsp\;</p>\n<p class="MsoNormal" style="mso-margin-top-alt:auto\;mso-margin-bottom-alt:auto">\n	<span style="font-size:11.0pt\;font-family:Calibri">Register at</span><a href="http://socialsecuritysolutions.eventbright.com" target="_blank"> http://socialsecuritysolutions.eventbrite.com</a><span style="font-size:11.0pt\;\nfont-family:Calibri">&nbsp\; or call us 205.451.1945</span></p>\n
LOCATION:Trustway 1845 Montgomery Hwy S Suite 233 Hoover\, AL 35244
UID:e.145.4474
SEQUENCE:3
DTSTAMP:20260424T134359Z
URL:https://business.shelbychamber.org/events/details/trustway-money-coaching-presents-social-security-solutions-04-23-2013-4474
END:VEVENT

END:VCALENDAR
