BEGIN:VCALENDAR
VERSION:2.0
PRODID:-//ChamberMaster//Event Calendar 2.0//EN
METHOD:PUBLISH
X-PUBLISHED-TTL:P3D
REFRESH-INTERVAL:P3D
CALSCALE:GREGORIAN
BEGIN:VEVENT
DTSTART:20130302T150000Z
DTEND:20130302T180000Z
X-MICROSOFT-CDO-ALLDAYEVENT:FALSE
SUMMARY:Trustway Money Coaching presents Stock Trading 101
DESCRIPTION:If you ever wanted to learn to trade in the stock market\, increase your returns in your 401 (k) or just stop losing money\, we're bringing you a class to get you started!\n\n\n\nYou will learn:\n\n- Common mistakes of amateur investors and how to avoid them\n\n- Making money regardless of market conditions\n\n- Generate an income to achieve your dreams\n\n\n\nSign up at stocks101.eventbrite.com or call 205.451.1945!
X-ALT-DESC;FMTTYPE=text/html:<span class="cm_editor_fix">If you ever wanted to learn to trade in the stock market\, increase your returns in your 401 (k) or just stop losing money\, we&#39\;re bringing you a class to get you started!<br />\n<br />\nYou will learn:<br />\n- Common mistakes of amateur investors and how to avoid them<br />\n- Making money regardless of market conditions<br />\n- Generate an income to achieve your dreams<br />\n<br />\nSign up at <a href="http://stocks101.eventbrite.com">stocks101.eventbrite.com</a> or call 205.451.1945!</span>
LOCATION:Trustway 1845 Montgomery Hwy S Suite 233 Hoover\, AL 35244
UID:e.145.4467
SEQUENCE:3
DTSTAMP:20260424T153737Z
URL:https://business.shelbychamber.org/events/details/trustway-money-coaching-presents-stock-trading-101-03-02-2013-4467
END:VEVENT

END:VCALENDAR
