BEGIN:VCALENDAR
VERSION:2.0
PRODID:-//ChamberMaster//Event Calendar 2.0//EN
METHOD:PUBLISH
X-PUBLISHED-TTL:P3D
REFRESH-INTERVAL:P3D
CALSCALE:GREGORIAN
BEGIN:VEVENT
DTSTART:20130829T140000Z
DTEND:20130829T170000Z
X-MICROSOFT-CDO-ALLDAYEVENT:FALSE
SUMMARY:Trustway Money Coaching presents Stock Trading 101
DESCRIPTION:If you ever wanted to learn to trade in the stock market\, increase returns in your 401(k) or just stop losing money\, we're bringing you a class to get you started!\n\n	You Will Learn:\n\n	 Common mistakes of amateur investors and how to avoid them\n\n	 Making money regardless of market conditions\n\n	 Generate an income to achieve your dreams\n\n	Cost:\n\n	Money Coaching Members: $0.00\n\n	Non-Members: $59.00\n\n	Register at http://stocks101.eventbrite.com
X-ALT-DESC;FMTTYPE=text/html:<p>\n	If you ever wanted to learn to trade in the stock market\, increase returns in your 401(k) or just stop losing money\, we&rsquo\;re bringing you a class to get you started!</p>\n<p>\n	You Will Learn:<br />\n	&bull\;Common mistakes of amateur investors and how to avoid them<br />\n	&bull\;Making money regardless of market conditions<br />\n	&bull\;Generate an income to achieve your dreams</p>\n<p>\n	Cost:<br />\n	Money Coaching Members: $0.00<br />\n	Non-Members: $59.00</p>\n<p>\n	Register at <a href="http://stocks101.eventbrite.com">http://stocks101.eventbrite.com</a></p>\n
LOCATION:1837 Montgomery Hwy S Suite 105 Hoover\, AL 35244
UID:e.145.4693
SEQUENCE:3
DTSTAMP:20260424T065601Z
URL:https://business.shelbychamber.org/events/details/trustway-money-coaching-presents-stock-trading-101-08-29-2013-4693
END:VEVENT

END:VCALENDAR
