BEGIN:VCALENDAR
VERSION:2.0
PRODID:-//ChamberMaster//Event Calendar 2.0//EN
METHOD:PUBLISH
X-PUBLISHED-TTL:P3D
REFRESH-INTERVAL:P3D
CALSCALE:GREGORIAN
BEGIN:VEVENT
DTSTART:20130119T150000Z
DTEND:20130119T230000Z
X-MICROSOFT-CDO-ALLDAYEVENT:FALSE
SUMMARY:Trustway Money Coaching presents Stock Trading 201
DESCRIPTION:This class builds on Stock Trading 101. What you'll learn:\n\n- When to get in and out\n\n- Customizing your trading system\n\n- Minimizing Losses and Maximizing Gains\n\n- How to identify strong companies\n\n- Maximizing profits in your 401 (k)\n\n\n\nRegister at stocks201.eventbrite.com or call 205.451.1945
X-ALT-DESC;FMTTYPE=text/html:This class builds on Stock Trading 101. What you&#39\;ll learn:<br />\n- When to get in and out<br />\n- Customizing your trading system<br />\n- Minimizing Losses and Maximizing Gains<br />\n- How to identify strong companies<br />\n- Maximizing profits in your 401 (k)<br />\n<br />\nRegister at <a href="http://stocks201.eventbrite.com">stocks201.eventbrite.com</a> or call 205.451.1945
LOCATION:Trustway 1845 Montgomery Hwy S Suite 233 Hoover\, AL 35244
UID:e.145.4449
SEQUENCE:3
DTSTAMP:20260424T184354Z
URL:https://business.shelbychamber.org/events/details/trustway-money-coaching-presents-stock-trading-201-01-19-2013-4449
END:VEVENT

END:VCALENDAR
