BEGIN:VCALENDAR
VERSION:2.0
PRODID:-//ChamberMaster//Event Calendar 2.0//EN
METHOD:PUBLISH
X-PUBLISHED-TTL:P3D
REFRESH-INTERVAL:P3D
CALSCALE:GREGORIAN
BEGIN:VEVENT
DTSTART:20140313T140000Z
DTEND:20140313T170000Z
X-MICROSOFT-CDO-ALLDAYEVENT:FALSE
SUMMARY:Trustway Stock Trading 101
DESCRIPTION:If you ever wanted to learn to trade in the stock market\, increase returns in your 401(k) or just stop losing money\, we're bringing you a class to get you started! You Will Learn: "Common mistakes of amateur investors and how to avoid them" "Making money regardless of market conditions" "Generate an income to achieve your dreams" Cost: Money Coaching Members: $0.00 Non-Members: $59.00 https://101stocks311.eventbrite.com
X-ALT-DESC;FMTTYPE=text/html:If you ever wanted to learn to trade in the stock market\, increase returns in your 401(k) or just stop losing money\, we&#39\;re bringing you a class to get you started! You Will Learn: &quot\;Common mistakes of amateur investors and how to avoid them&quot\; &quot\;Making money regardless of market conditions&quot\; &quot\;Generate an income to achieve your dreams&quot\; Cost: Money Coaching Members: $0.00 Non-Members: $59.00 https://101stocks311.eventbrite.com
LOCATION:Trustway 1837 Montgomery Hwy S Suite 105 Hoover\, AL 35244
UID:e.145.5096
SEQUENCE:3
DTSTAMP:20260423T213121Z
URL:https://business.shelbychamber.org/events/details/trustway-stock-trading-101-03-13-2014-5096
END:VEVENT

END:VCALENDAR
