BEGIN:VCALENDAR
VERSION:2.0
PRODID:-//ChamberMaster//Event Calendar 2.0//EN
METHOD:PUBLISH
X-PUBLISHED-TTL:P3D
REFRESH-INTERVAL:P3D
CALSCALE:GREGORIAN
BEGIN:VEVENT
DTSTART:20131114T150000Z
DTEND:20131114T180000Z
X-MICROSOFT-CDO-ALLDAYEVENT:FALSE
SUMMARY:Trustway Stock Trading 101
DESCRIPTION:If you ever wanted to learn to trade in the stock market\, increase returns in your 401(k) or just stop losing money\, we're bringing you a class to get you started!\n\n\n\nYou Will Learn:\n\n	\n		Common mistakes of amateur investors and how to avoid them\n	\n		Making money regardless of market conditions\n	\n		Generate an income to achieve your dreams\n\nCost: Money Coaching Members: $0.00\n\nNon-Members: $59.00\n\nRegister at http://stocks101.eventbrite.com
X-ALT-DESC;FMTTYPE=text/html:If you ever wanted to learn to trade in the stock market\, increase returns in your 401(k) or just stop losing money\, we&#39\;re bringing you a class to get you started!<br />\n<br />\nYou Will Learn:\n<ul>\n	<li>\n		Common mistakes of amateur investors and how to avoid them</li>\n	<li>\n		Making money regardless of market conditions</li>\n	<li>\n		Generate an income to achieve your dreams</li>\n</ul>\nCost: Money Coaching Members: $0.00<br />\nNon-Members: $59.00<br />\nRegister at <a href="http://stocks101.eventbrite.com">http://stocks101.eventbrite.com</a>
LOCATION:Trustway 1837 Montgomery Hwy S Ste 105 Hoover\, AL 35244
UID:e.145.4902
SEQUENCE:3
DTSTAMP:20260424T020550Z
URL:https://business.shelbychamber.org/events/details/trustway-stock-trading-101-11-14-2013-4902
END:VEVENT

END:VCALENDAR
