BEGIN:VCALENDAR
VERSION:2.0
PRODID:-//ChamberMaster//Event Calendar 2.0//EN
METHOD:PUBLISH
X-PUBLISHED-TTL:P3D
REFRESH-INTERVAL:P3D
CALSCALE:GREGORIAN
BEGIN:VEVENT
DTSTART:20131102T170000Z
DTEND:20131102T174500Z
X-MICROSOFT-CDO-ALLDAYEVENT:FALSE
SUMMARY:Try Hockey For FREE at the Pelham Civic Complex
DESCRIPTION:TRY HOCKEY FOR FREE The Pelham Youth Hockey League in conjunction with USA Hockey is excited to announce that they will be hosting Try Hockey For Free Day at the Pelham Civic Complex Ice Arena on Saturday\, November 2nd 2013 from 12:00pm - 12:45pm. The Try Hockey For Free Day is designed for children ages 4 - 12 to experience ice hockey for the first time and learn the basics of the sport in a fun\, safe environment as taught and coached by many of the qualified and certified coaches who volunteer with our hockey program. Opportunities for children to become involved with Youth Hockey in a cost effective way continue to grow across the country. Information on Pelham's Learn To Play Hockey Program will also be available in the coming days. Please stay connected to www.pyhl.org . REGISTRATION: To pre-register please visit www.tryhockeyforfree.com\, enter zip code\, and click on the map pin for details. EQUIPMENT: Skates\, sticks and helmets will be provided as needed. However\, skaters are encouraged to bring their own if available as equipment is limited.
X-ALT-DESC;FMTTYPE=text/html:TRY HOCKEY FOR FREE The Pelham Youth Hockey League in conjunction with USA Hockey is excited to announce that they will be hosting Try Hockey For Free Day at the Pelham Civic Complex Ice Arena on Saturday\, November 2nd 2013 from 12:00pm - 12:45pm. The Try Hockey For Free Day is designed for children ages 4 - 12 to experience ice hockey for the first time and learn the basics of the sport in a fun\, safe environment as taught and coached by many of the qualified and certified coaches who volunteer with our hockey program. Opportunities for children to become involved with Youth Hockey in a cost effective way continue to grow across the country. Information on Pelham&#39\;s Learn To Play Hockey Program will also be available in the coming days. Please stay connected to www.pyhl.org . REGISTRATION: To pre-register please visit www.tryhockeyforfree.com\, enter zip code\, and click on the map pin for details. EQUIPMENT: Skates\, sticks and helmets will be provided as needed. However\, skaters are encouraged to bring their own if available as equipment is limited. 
LOCATION:Pelham Civic Complex and Ice Arena 500 Amphitheater Road Pelham
UID:e.145.4905
SEQUENCE:3
DTSTAMP:20260424T033706Z
URL:https://business.shelbychamber.org/events/details/try-hockey-for-free-at-the-pelham-civic-complex-11-02-2013-4905
END:VEVENT

END:VCALENDAR
