BEGIN:VCALENDAR
VERSION:2.0
PRODID:-//ChamberMaster//Event Calendar 2.0//EN
METHOD:PUBLISH
X-PUBLISHED-TTL:P3D
REFRESH-INTERVAL:P3D
CALSCALE:GREGORIAN
BEGIN:VEVENT
DTSTART:20130302T203000Z
DTEND:20130302T220000Z
X-MICROSOFT-CDO-ALLDAYEVENT:FALSE
SUMMARY:Try Ice Hockey For Free! Ages 4 - 12
DESCRIPTION:TRY ICE HOCKEY FOR FREE!\n\n	Learn To Play Hockey (LTPH)\n\n	Saturday\, March 2nd\n\n	2:30 PM -- 4:00 PM\n\n	\n\n	Meet the staff and players of the University of Alabama Frozen Tide!\n\n	No Experience Required!  Free Admission!\n\n	LTPH participants are invited at no charge to skate during the 4 pm -- 6 pm public session.\n\n	\n\n	The Pelham Youthy Hockey League (PYHL) and The University of Alabama Frozen Tide are inviting families to bring players to the Pelham Civic Complex and Ice Arena to LEARN TO PLAY HOCKEY.\n\n	\n\n	This free trial is for children ages 4 -- 12 years old who are interested in trying hockey for the first time.  Required equipment will be provided.  All you need to do is dress warmly and bring your desire to have a great time.\n\n	\n\n	Frozen Tide coaches and players along with the PYHL and Pelham Skate School will be on hand to help teach the basics of the sport.\n\n	\n\n	For questions\, please contact:\n\n	Scott Norton\n\n	205 620-6443\n\n	snorton@pelhamonline.com\n\n	www.pyhl.org
X-ALT-DESC;FMTTYPE=text/html:<p class="MsoNormal" style="margin: 0in 0in 10pt">\n	<span lang="EN" style="line-height: 115%\; font-family: 'arial'\, 'sans-serif'\; color: #222222\; font-size: 9pt\; mso-ansi-language: en">TRY ICE HOCKEY FOR FREE!<br />\n	Learn To Play Hockey (LTPH)<br />\n	Saturday\, March 2nd<br />\n	2:30 PM -- 4:00 PM<br />\n	<br />\n	Meet the staff and players of the University of Alabama Frozen Tide!<br />\n	No Experience Required!&nbsp\; Free Admission!<br />\n	LTPH participants are invited at no charge to skate&nbsp\;during the 4 pm -- 6 pm public session.<br />\n	<br />\n	The Pelham Youthy Hockey League (PYHL) and The University of Alabama Frozen Tide are inviting families to bring players to the Pelham Civic Complex and Ice Arena to LEARN TO PLAY HOCKEY.<br />\n	<br />\n	This free trial is for children ages 4 -- 12 years old who are interested in trying hockey for the first time.&nbsp\; Required equipment will be provided.&nbsp\; All you need to do is dress warmly and bring your desire to have a great time.<br />\n	<br />\n	Frozen Tide coaches and players along with the PYHL and Pelham Skate School will be on hand to help teach the basics of the sport.<br />\n	<br />\n	For questions\, please contact:<br />\n	Scott Norton<br />\n	205 620-6443<br />\n	snorton@pelhamonline.com<br />\n	www.pyhl.org&nbsp\;&nbsp\;</span></p>\n
LOCATION:Pelham Civic Complex and Ice Arena 500 Amphitheater Rd Pelham\, AL 35124
UID:e.145.4506
SEQUENCE:3
DTSTAMP:20260424T153737Z
URL:https://business.shelbychamber.org/events/details/try-ice-hockey-for-free-ages-4-12-03-02-2013-4506
END:VEVENT

END:VCALENDAR
