BEGIN:VCALENDAR
VERSION:2.0
PRODID:-//ChamberMaster//Event Calendar 2.0//EN
METHOD:PUBLISH
X-PUBLISHED-TTL:P3D
REFRESH-INTERVAL:P3D
CALSCALE:GREGORIAN
BEGIN:VEVENT
DTSTART:20150402T150000Z
DTEND:20150402T160000Z
X-MICROSOFT-CDO-ALLDAYEVENT:FALSE
SUMMARY:TS Arms Ribbon Cutting
DESCRIPTION:Join us to celebrate the Grand Opening of TS Arms new location!
X-ALT-DESC;FMTTYPE=text/html:Join us to celebrate the Grand Opening of TS Arms new location!
LOCATION:They are located at 3548 Pelham Parkway South\, Pelham\, 35124. They are beside the Big Lots and Staples off of Highway 31 in Pelham.
UID:e.145.7587
SEQUENCE:3
DTSTAMP:20260423T020455Z
URL:https://business.shelbychamber.org/events/details/ts-arms-ribbon-cutting-04-02-2015-7587
END:VEVENT

END:VCALENDAR
