BEGIN:VCALENDAR
VERSION:2.0
PRODID:-//ChamberMaster//Event Calendar 2.0//EN
METHOD:PUBLISH
X-PUBLISHED-TTL:P3D
REFRESH-INTERVAL:P3D
CALSCALE:GREGORIAN
BEGIN:VEVENT
DTSTART:20110419T050000Z
DTEND:20110420T045900Z
X-MICROSOFT-CDO-ALLDAYEVENT:FALSE
SUMMARY:Tuesday Evening Adult Painting
DESCRIPTION:Tuesday evening adult painting\n\n\n\n* Relaxed Studio Class\n\n* No experience necessary!\n\n* Personalized attention given\n\n\n\nApril Class: Apr 5 - 26\, 2011\n\nTuesdays\, 6:00 - 9:00pm\n\nInstructor: Lynn Dodson\n\nAges 15 - Adult
X-ALT-DESC;FMTTYPE=text/html:Tuesday evening adult painting<br />\n<br />\n* Relaxed Studio Class<br />\n* No experience necessary!<br />\n* Personalized attention given<br />\n<br />\nApril Class: Apr 5 - 26\, 2011<br />\nTuesdays\, 6:00 - 9:00pm<br />\nInstructor: Lynn Dodson<br />\nAges 15 - Adult 
LOCATION:Shelby County Arts Council Studio 104 Mildred St Columbiana AL 35051
UID:e.145.3115
SEQUENCE:3
DTSTAMP:20260426T034645Z
URL:https://business.shelbychamber.org/events/details/tuesday-evening-adult-painting-04-19-2011-3115
END:VEVENT

END:VCALENDAR
