BEGIN:VCALENDAR
VERSION:2.0
PRODID:-//ChamberMaster//Event Calendar 2.0//EN
METHOD:PUBLISH
X-PUBLISHED-TTL:P3D
REFRESH-INTERVAL:P3D
CALSCALE:GREGORIAN
BEGIN:VEVENT
DTSTART:20130319T150000Z
DTEND:20130319T160000Z
X-MICROSOFT-CDO-ALLDAYEVENT:FALSE
SUMMARY:Tuesday's Tweets
DESCRIPTION:: Learn about the Birds of Alabama. Meet at the Treetop Nature Trail.
X-ALT-DESC;FMTTYPE=text/html:: Learn about the Birds of Alabama. Meet at the Treetop Nature Trail.
LOCATION:Oak Mountain State Park - Treetop Nature Trail
UID:e.145.4514
SEQUENCE:3
DTSTAMP:20260424T153314Z
URL:https://business.shelbychamber.org/events/details/tuesday-s-tweets-03-19-2013-4514
END:VEVENT

END:VCALENDAR
