BEGIN:VCALENDAR
VERSION:2.0
PRODID:-//ChamberMaster//Event Calendar 2.0//EN
METHOD:PUBLISH
X-PUBLISHED-TTL:P3D
REFRESH-INTERVAL:P3D
CALSCALE:GREGORIAN
BEGIN:VEVENT
DTSTART:20140511T010000Z
DTEND:20140511T030000Z
X-MICROSOFT-CDO-ALLDAYEVENT:FALSE
SUMMARY:Tuxedo Junction with the Ray Reach Trio
DESCRIPTION:Did you know Tuxedo Junction is actually a place in downtown Birmingham? Alabama has a rich jazz heritage being the birthplace of such famous Jazz Musicians as Nat King Cole\, Lionel Hampton\, Urbie Green and Erskine Hawkins. We are delighted to present the Ray Reach Jazz Trio as they walk us through the history of jazz and the influence that many of our state's native sons had on the musical genre. Visit Ray Reach's Website to learn more about him and view his musical resume. An intimate listening venue. A relaxed atmosphere. A great time.
X-ALT-DESC;FMTTYPE=text/html:Did you know Tuxedo Junction is actually a place in downtown Birmingham? Alabama has a rich jazz heritage being the birthplace of such famous Jazz Musicians as Nat King Cole\, Lionel Hampton\, Urbie Green and Erskine Hawkins. We are delighted to present the Ray Reach Jazz Trio as they walk us through the history of jazz and the influence that many of our state&#39\;s native sons had on the musical genre. Visit Ray Reach&#39\;s Website to learn more about him and view his musical resume. An intimate listening venue. A relaxed atmosphere. A great time.
LOCATION:Shelby County Arts Council 104 Mildred Street Columbiana\, AL 35051
UID:e.145.5338
SEQUENCE:3
DTSTAMP:20260423T184027Z
URL:https://business.shelbychamber.org/events/details/tuxedo-junction-with-the-ray-reach-trio-05-10-2014-5338
END:VEVENT

END:VCALENDAR
