BEGIN:VCALENDAR
VERSION:2.0
PRODID:-//ChamberMaster//Event Calendar 2.0//EN
METHOD:PUBLISH
X-PUBLISHED-TTL:P3D
REFRESH-INTERVAL:P3D
CALSCALE:GREGORIAN
BEGIN:VEVENT
DTSTART:20160720T190000Z
DTEND:20160720T200000Z
X-MICROSOFT-CDO-ALLDAYEVENT:FALSE
SUMMARY:Tween Craft: Rubber Band Loom Bracelet
DESCRIPTION:Ever want to try to make your own woven rubber band bracelet? Sign up and stretch your skills. Ages 8   12. Registration required.
X-ALT-DESC;FMTTYPE=text/html:<span style="font-family:calibri light\,sans-serif"><span style="font-size:12.0pt">Ever want to try to make your own woven rubber band bracelet? Sign up and stretch your skills. Ages 8 &ndash\; 12. Registration required.</span></span>
LOCATION:North Shelby Library 5521 Cahaba Valley Road Birmingham\, AL 35242
UID:e.145.9631
SEQUENCE:3
DTSTAMP:20260422T011958Z
URL:https://business.shelbychamber.org/events/details/tween-craft-rubber-band-loom-bracelet-07-20-2016-9631
END:VEVENT

END:VCALENDAR
