BEGIN:VCALENDAR
VERSION:2.0
PRODID:-//ChamberMaster//Event Calendar 2.0//EN
METHOD:PUBLISH
X-PUBLISHED-TTL:P3D
REFRESH-INTERVAL:P3D
CALSCALE:GREGORIAN
BEGIN:VEVENT
DTSTART:20160713T190000Z
DTEND:20160713T200000Z
X-MICROSOFT-CDO-ALLDAYEVENT:FALSE
SUMMARY:Tween Craft: Sharpie Marker Paintings
DESCRIPTION:Blend\, swirl\, drip and create a take home canvas masterpiece! Registration required. Ages 8   12.
X-ALT-DESC;FMTTYPE=text/html:<span style="font-family:calibri light\,sans-serif"><span style="font-size:12.0pt">Blend\, swirl\, drip and create a take home canvas masterpiece! Registration required. Ages 8 &ndash\; 12.</span></span>
LOCATION:North Shelby Library 5521 Cahaba Valley Road Birmingham\, AL 35242
UID:e.145.9630
SEQUENCE:3
DTSTAMP:20260422T030028Z
URL:https://business.shelbychamber.org/events/details/tween-craft-sharpie-marker-paintings-07-13-2016-9630
END:VEVENT

END:VCALENDAR
