BEGIN:VCALENDAR
VERSION:2.0
PRODID:-//ChamberMaster//Event Calendar 2.0//EN
METHOD:PUBLISH
X-PUBLISHED-TTL:P3D
REFRESH-INTERVAL:P3D
CALSCALE:GREGORIAN
BEGIN:VEVENT
DTSTART:20160608T190000Z
DTEND:20160608T200000Z
X-MICROSOFT-CDO-ALLDAYEVENT:FALSE
SUMMARY:Tween Craft: Sporty Picture Frame
DESCRIPTION:We'll be mod-podging sports themed magazine pages onto take home wooden frames! Ages 8   12. Registration required.
X-ALT-DESC;FMTTYPE=text/html:<span style="font-family:calibri light\,sans-serif">We&rsquo\;ll be mod-podging sports themed magazine pages onto take home wooden frames! Ages 8 &ndash\; 12. Registration required.</span>
LOCATION:North Shelby Library
UID:e.145.9572
SEQUENCE:3
DTSTAMP:20260422T030239Z
URL:https://business.shelbychamber.org/events/details/tween-craft-sporty-picture-frame-06-08-2016-9572
END:VEVENT

END:VCALENDAR
