BEGIN:VCALENDAR
VERSION:2.0
PRODID:-//ChamberMaster//Event Calendar 2.0//EN
METHOD:PUBLISH
X-PUBLISHED-TTL:P3D
REFRESH-INTERVAL:P3D
CALSCALE:GREGORIAN
BEGIN:VEVENT
DTSTART:20160622T190000Z
DTEND:20160622T200000Z
X-MICROSOFT-CDO-ALLDAYEVENT:FALSE
SUMMARY:Tween Craft: Tie Dye T-Shirts
DESCRIPTION:Show your colors! Bring your own white t-shirt\, and we'll provide the rest. Ages 8   12. Registration required.
X-ALT-DESC;FMTTYPE=text/html:<span style="font-family:calibri light\,sans-serif">Show your colors! Bring your own white t-shirt\, and we&rsquo\;ll provide the rest. Ages 8 &ndash\; 12. Registration required.</span>
LOCATION:North Shelby Library
UID:e.145.9574
SEQUENCE:3
DTSTAMP:20260422T030150Z
URL:https://business.shelbychamber.org/events/details/tween-craft-tie-dye-t-shirts-06-22-2016-9574
END:VEVENT

END:VCALENDAR
