BEGIN:VCALENDAR
VERSION:2.0
PRODID:-//ChamberMaster//Event Calendar 2.0//EN
METHOD:PUBLISH
X-PUBLISHED-TTL:P3D
REFRESH-INTERVAL:P3D
CALSCALE:GREGORIAN
BEGIN:VEVENT
DTSTART:20160706T190000Z
DTEND:20160706T203000Z
X-MICROSOFT-CDO-ALLDAYEVENT:FALSE
SUMMARY:Tween Event: Minecraft Competition
DESCRIPTION:Minecraft fanatic? Register for our virtual building competition. Bring your own device\, or sign up for one of ours (while supplies last). Mine-themed snacks provided! Registration required. Ages 8   12.
X-ALT-DESC;FMTTYPE=text/html:<span style="font-family:calibri light\,sans-serif">Minecraft fanatic? Register for our virtual building competition. Bring your own device\, or sign up for one of ours (while supplies last). Mine-themed snacks provided! Registration required. Ages 8 &ndash\; 12.</span>
LOCATION:North Shelby Library 5521 Cahaba Valley Road Birmingham\, AL 35242
UID:e.145.9629
SEQUENCE:3
DTSTAMP:20260422T011610Z
URL:https://business.shelbychamber.org/events/details/tween-event-minecraft-competition-07-06-2016-9629
END:VEVENT

END:VCALENDAR
