BEGIN:VCALENDAR
VERSION:2.0
PRODID:-//ChamberMaster//Event Calendar 2.0//EN
METHOD:PUBLISH
X-PUBLISHED-TTL:P3D
REFRESH-INTERVAL:P3D
CALSCALE:GREGORIAN
BEGIN:VEVENT
DTSTART:20160727T190000Z
DTEND:20160727T200000Z
X-MICROSOFT-CDO-ALLDAYEVENT:FALSE
SUMMARY:Tween Event: Team Spirit Minute to Win It
DESCRIPTION:Wear your team colors and compete for the win at our Tween Summer Reading Program finale! Ages 8   12. Registration required.
X-ALT-DESC;FMTTYPE=text/html:<span style="font-family:calibri light\,sans-serif">Wear your team colors and compete for the win at our Tween Summer Reading Program finale! Ages 8 &ndash\; 12. Registration required.</span>
LOCATION:North Shelby Library 5521 Cahaba Valley Road Birmingham\, AL 35242
UID:e.145.9632
SEQUENCE:3
DTSTAMP:20260422T012050Z
URL:https://business.shelbychamber.org/events/details/tween-event-team-spirit-minute-to-win-it-07-27-2016-9632
END:VEVENT

END:VCALENDAR
