BEGIN:VCALENDAR
VERSION:2.0
PRODID:-//ChamberMaster//Event Calendar 2.0//EN
METHOD:PUBLISH
X-PUBLISHED-TTL:P3D
REFRESH-INTERVAL:P3D
CALSCALE:GREGORIAN
BEGIN:VEVENT
DTSTART:20161020T230000Z
DTEND:20161021T000000Z
X-MICROSOFT-CDO-ALLDAYEVENT:FALSE
SUMMARY:Tween Halloween Party
DESCRIPTION:Our 9th annual spooktacularly creepy campfire stories get together just for kids ages 8 - 13.  Spooky stories\, fun\, and food! Registration Required. Check our website for more information.
X-ALT-DESC;FMTTYPE=text/html:<span style="font-family:calibri light\,sans-serif">&nbsp\;Our 9th annual spooktacularly creepy campfire stories get together just for kids ages 8 - 13.&nbsp\; Spooky stories\, fun\, and food! <u>Registration Required.</u></span><span style="font-family:calibri light\,sans-serif"> Check&nbsp\;our&nbsp\;website&nbsp\;for&nbsp\;more&nbsp\;information.</span>
LOCATION:North Shelby Library 5521 Cahaba Valley Road Birmingham\, AL 35242
UID:e.145.9693
SEQUENCE:3
DTSTAMP:20260421T164803Z
URL:https://business.shelbychamber.org/events/details/tween-halloween-party-10-20-2016-9693
END:VEVENT

END:VCALENDAR
