BEGIN:VCALENDAR
VERSION:2.0
PRODID:-//ChamberMaster//Event Calendar 2.0//EN
METHOD:PUBLISH
X-PUBLISHED-TTL:P3D
REFRESH-INTERVAL:P3D
CALSCALE:GREGORIAN
BEGIN:VEVENT
DTSTART:20151029T230000Z
DTEND:20151030T000000Z
X-MICROSOFT-CDO-ALLDAYEVENT:FALSE
SUMMARY:Tween Halloween Party
DESCRIPTION:Our 8th annual Spooktacular Creepy Campfire Stories. Spooky stories\, fun\, and food! Ages 8 - 13 welcome. Registration required. Check our website for more information.
X-ALT-DESC;FMTTYPE=text/html:Our 8th annual Spooktacular Creepy Campfire Stories. Spooky stories\, fun\, and food! Ages 8 - 13 welcome. Registration required. Check our website for more information.&nbsp\;
LOCATION:North Shelby Library
UID:e.145.7896
SEQUENCE:3
DTSTAMP:20260422T154204Z
URL:https://business.shelbychamber.org/events/details/tween-halloween-party-10-29-2015-7896
END:VEVENT

END:VCALENDAR
