BEGIN:VCALENDAR
VERSION:2.0
PRODID:-//ChamberMaster//Event Calendar 2.0//EN
METHOD:PUBLISH
X-PUBLISHED-TTL:P3D
REFRESH-INTERVAL:P3D
CALSCALE:GREGORIAN
BEGIN:VEVENT
DTSTART:20160629T190000Z
DTEND:20160629T200000Z
X-MICROSOFT-CDO-ALLDAYEVENT:FALSE
SUMMARY:Tween Lego Car Derby Race
DESCRIPTION:Assemble your own Lego car and race your friends! We provide the Legos. Ages 8   12. Registration required.
X-ALT-DESC;FMTTYPE=text/html:<span style="font-family:calibri light\,sans-serif">Assemble your own Lego car and race your friends! We provide the Legos. Ages 8 &ndash\; 12. Registration required.</span>
LOCATION:North Shelby Library
UID:e.145.9576
SEQUENCE:3
DTSTAMP:20260422T043504Z
URL:https://business.shelbychamber.org/events/details/tween-lego-car-derby-race-06-29-2016-9576
END:VEVENT

END:VCALENDAR
