BEGIN:VCALENDAR
VERSION:2.0
PRODID:-//ChamberMaster//Event Calendar 2.0//EN
METHOD:PUBLISH
X-PUBLISHED-TTL:P3D
REFRESH-INTERVAL:P3D
CALSCALE:GREGORIAN
BEGIN:VEVENT
DTSTART:20160627T213000Z
DTEND:20160627T223000Z
X-MICROSOFT-CDO-ALLDAYEVENT:FALSE
SUMMARY:Tween Magic Workshop with Skip Cain
DESCRIPTION:Skip Cain will teach us how to do simple magic tricks. Ages 8   12. Registration required.
X-ALT-DESC;FMTTYPE=text/html:<span style="font-family:calibri light\,sans-serif">Skip Cain will teach us how to do simple magic tricks. Ages 8 &ndash\; 12. Registration required.</span>
LOCATION:North Shelby Library
UID:e.145.9575
SEQUENCE:3
DTSTAMP:20260422T025748Z
URL:https://business.shelbychamber.org/events/details/tween-magic-workshop-with-skip-cain-06-27-2016-9575
END:VEVENT

END:VCALENDAR
