BEGIN:VCALENDAR
VERSION:2.0
PRODID:-//ChamberMaster//Event Calendar 2.0//EN
METHOD:PUBLISH
X-PUBLISHED-TTL:P3D
REFRESH-INTERVAL:P3D
CALSCALE:GREGORIAN
BEGIN:VEVENT
DTSTART:20160615T190000Z
DTEND:20160615T210000Z
X-MICROSOFT-CDO-ALLDAYEVENT:FALSE
SUMMARY:Tween Movie Matinee
DESCRIPTION:It's hot outside. Chill with us! Snacks provided. Ages 8   12. No registration required.
X-ALT-DESC;FMTTYPE=text/html:<span style="font-family:calibri light\,sans-serif">It&rsquo\;s hot outside. Chill with us! Snacks provided. Ages 8 &ndash\; 12. No registration required.</span>
LOCATION:North Shelby Library
UID:e.145.9573
SEQUENCE:3
DTSTAMP:20260422T030207Z
URL:https://business.shelbychamber.org/events/details/tween-movie-matinee-06-15-2016-9573
END:VEVENT

END:VCALENDAR
