BEGIN:VCALENDAR
VERSION:2.0
PRODID:-//ChamberMaster//Event Calendar 2.0//EN
METHOD:PUBLISH
X-PUBLISHED-TTL:P3D
REFRESH-INTERVAL:P3D
CALSCALE:GREGORIAN
BEGIN:VEVENT
DTSTART;VALUE=DATE:20120621
DTEND;VALUE=DATE:20120731
TRANSP:TRANSPARENT
X-MICROSOFT-CDO-ALLDAYEVENT:TRUE
SUMMARY:Two Sisters Exhibit - Shelby County Arts Council
DESCRIPTION:The Shelby County Arts Council announces the Annual Liberty Day Exhibit- Two Sisters. The featured artists for this year's exhibit are sisters Sylvia Bentley McDonald and Diane Bentley Ellis. Both ladies are life-long residents of Shelby County and actively involved in the community.\n\n\n\nSisters Diane Bentley Ellis and Sylvia Bentley McDonald have shared a passion for art and craft all their lives. Between them they have experimented in watercolor painting\, acrylic painting\, oil painting\, pastel and pencil drawing\, stained glass\, pottery\, mixed media\, glass painting\, glass and bottle slumping\, jewelry making\, knitting\, basket weaving\, mosaics\, and creative sewing. Some of these interests have stuck while others have been left behind.\n\n\n\nCurrently\, Diane is most involved in oil painting. This show will feature watercolor\, acrylic\, and oil paintings of scenes from her travels and a series of paintings called "Behind the Scene." Sylvia has settled into wheel thrown and hand-built pottery for the last six years since her retirement from teaching. Presented in "Two Sisters" are examples of her decorative and functional stoneware pottery.
X-ALT-DESC;FMTTYPE=text/html:The <strong>Shelby County Arts Council </strong>announces the Annual Liberty Day Exhibit- Two Sisters. The featured artists for this year&rsquo\;s exhibit are sisters Sylvia Bentley McDonald and Diane Bentley Ellis. Both ladies are life-long residents of Shelby County and actively involved in the community.<br />\n<br />\nSisters Diane Bentley Ellis and Sylvia Bentley McDonald have shared a passion for art and craft all their lives. Between them they have experimented in watercolor painting\, acrylic painting\, oil painting\, pastel and pencil drawing\, stained glass\, pottery\, mixed media\, glass painting\, glass and bottle slumping\, jewelry making\, knitting\, basket weaving\, mosaics\, and creative sewing. Some of these interests have stuck while others have been left behind.<br />\n<br />\nCurrently\, Diane is most involved in oil painting. This show will feature watercolor\, acrylic\, and oil paintings of scenes from her travels and a series of paintings called &ldquo\;Behind the Scene.&rdquo\; Sylvia has settled into wheel thrown and hand-built pottery for the last six years since her retirement from teaching. Presented in &ldquo\;Two Sisters&rdquo\; are examples of her decorative and functional stoneware pottery. 
LOCATION:Shelby County Arts Council
UID:e.145.4224
SEQUENCE:3
DTSTAMP:20260425T042730Z
URL:https://business.shelbychamber.org/events/details/two-sisters-exhibit-shelby-county-arts-council-06-21-2012-4224
END:VEVENT

END:VCALENDAR
