BEGIN:VCALENDAR
VERSION:2.0
PRODID:-//ChamberMaster//Event Calendar 2.0//EN
METHOD:PUBLISH
X-PUBLISHED-TTL:P3D
REFRESH-INTERVAL:P3D
CALSCALE:GREGORIAN
BEGIN:VEVENT
DTSTART:20140508T223000Z
DTEND:20140509T003000Z
X-MICROSOFT-CDO-ALLDAYEVENT:FALSE
SUMMARY:U.S. Congressional District 6 Candidates' Forum
DESCRIPTION:U.S. Congressional District 6 Candidates' Forum\n\n\n\nThe Chamber's Governmental Affairs Work Group will be co-hosting a series of Candidates' Forums along with Shelby County Newspapers and the Shelby County Republican Party the month of May to provide an opportunity for Chamber members and the business community to meet and gather information from candidates running for elected office\, and ultimately make an informed decision.
X-ALT-DESC;FMTTYPE=text/html:U.S. Congressional District 6 Candidates&rsquo\; Forum<br />\n<br />\nThe Chamber&rsquo\;s Governmental Affairs Work Group will be co-hosting a series of Candidates&rsquo\; Forums along with Shelby County Newspapers and the Shelby County Republican Party the month of May to provide an opportunity for Chamber members and the business community to meet and gather information from candidates running for elected office\, and ultimately make an informed decision.
LOCATION:Cahaba Grand Conference Center 3660 Grandview Pkwy\, Birmingham
UID:e.145.5322
SEQUENCE:3
DTSTAMP:20260423T165300Z
URL:https://business.shelbychamber.org/events/details/u-s-congressional-district-6-candidates-forum-05-08-2014-5322
END:VEVENT

END:VCALENDAR
