BEGIN:VCALENDAR
VERSION:2.0
PRODID:-//ChamberMaster//Event Calendar 2.0//EN
METHOD:PUBLISH
X-PUBLISHED-TTL:P3D
REFRESH-INTERVAL:P3D
CALSCALE:GREGORIAN
BEGIN:VEVENT
DTSTART;VALUE=DATE:20110824
DTEND;VALUE=DATE:20110916
TRANSP:TRANSPARENT
X-MICROSOFT-CDO-ALLDAYEVENT:TRUE
SUMMARY:Urology Centers of Alabama's Fundraiser at California Pizza Kitchen
DESCRIPTION:Urology Centers of Alabama is having a fundraiser at California Pizza Kitchen. Just bring in the flyer posted at www.UrologyHealthFoundation.org on any of the specified dates\, present it to your server when ordering\, and 20% of your check will be donated to the Urology Health Foundation and ZERO to continue free prostate cancer screenings.\n\n\n\nThanks\, and enjoy!
X-ALT-DESC;FMTTYPE=text/html:Urology Centers of Alabama is having a fundraiser at California Pizza Kitchen. Just bring in the flyer posted at www.UrologyHealthFoundation.org on any of the specified dates\, present it to your server when ordering\, and 20% of your check will be donated to the Urology Health Foundation and ZERO to continue free prostate cancer screenings.<br />\n<br />\nThanks\, and enjoy!<br />\n
LOCATION:California Pizza Kitchen 238 Summit Blvd. Birmingham\, AL 35243 Phone: (205) 298-7931
UID:e.145.3488
SEQUENCE:3
DTSTAMP:20260425T201016Z
URL:https://business.shelbychamber.org/events/details/urology-centers-of-alabama-s-fundraiser-at-california-pizza-kitchen-08-24-2011-3488
END:VEVENT

END:VCALENDAR
