BEGIN:VCALENDAR
VERSION:2.0
PRODID:-//ChamberMaster//Event Calendar 2.0//EN
METHOD:PUBLISH
X-PUBLISHED-TTL:P3D
REFRESH-INTERVAL:P3D
CALSCALE:GREGORIAN
BEGIN:VEVENT
DTSTART:20140611T133000Z
DTEND:20140611T213000Z
X-MICROSOFT-CDO-ALLDAYEVENT:FALSE
SUMMARY:Using Windows 8.1
DESCRIPTION:Course Length:\n\n1 day\n\nCourse Description\n\nOverview:\n\nWelcome to Using Microsoft  Windows  8.1. Whether you're new to computers or have used them in the past\, this class will help you become more comfortable using a personal computer (PC) and\, more specifically\, the Windows 8.1 interface. This course will help you to define what a PC is\, and familiarize you with the Windows 8.1 user interface and its basic capabilities. In this course\, you will explore Windows 8.1 and learn how to create documents\, send email\, browse the Internet\, and share information between applications and with other users.\n\nCourse Objectives:\n\nUpon successful completion of this course\, you will be able to perform basic work-related tasks on a PC running the Windows 8.1 operating system.\n\nYou will:\n\n\n	Get to know PCs and the Windows 8.1 user interface.\n	Use Windows Store apps and navigation features.\n	Work with Desktop applications.\n	Use Internet Explorer 11.\n	Customize the Windows 8.1 environment.\n	Use Windows 8.1 security features.\n\n\nTarget Student:\n\nThis course is designed for any end user\, especially an individual new to computing\, who needs to use the features and functionality of the Windows 8.1 operating system for personal and/or professional reasons.\n\nPrerequisites:\n\nThis course is intended for new computer users who want to use the basic tools and features of Windows 8.1. No particular prerequisite skills are required\, but any previous exposure to personal computers and the Internet is helpful.
X-ALT-DESC;FMTTYPE=text/html:<p data-mce-style="margin: 12pt 0in\; line-height: 12pt\; background-image: initial\; background-attachment: initial\; background-size: initial\; background-origin: initial\; background-clip: initial\; background-position: initial\; background-repeat: initial\;" style="font-family: 'Helvetica Neue'\, Helvetica\, Arial\, sans-serif\; font-size: 13px\; line-height: 12pt\; color: rgb(0\, 0\, 0)\; margin: 12pt 0in\; background-image: initial\; background-attachment: initial\; background-size: initial\; background-origin: initial\; background-clip: initial\; background-position: initial\; background-repeat: initial\;"><strong><span data-mce-style="font-size: 9pt\; font-family: Arial\, sans-serif\;" style="font-size: 9pt\; font-family: Arial\, sans-serif\;">Course Length:</span></strong></p>\n\n<p data-mce-style="margin: 0in 0in 12pt 12pt\; line-height: 12pt\; background-image: initial\; background-attachment: initial\; background-size: initial\; background-origin: initial\; background-clip: initial\; background-position: initial\; background-repeat: initial\;" style="font-family: 'Helvetica Neue'\, Helvetica\, Arial\, sans-serif\; font-size: 13px\; line-height: 12pt\; color: rgb(0\, 0\, 0)\; margin: 0in 0in 12pt 12pt\; background-image: initial\; background-attachment: initial\; background-size: initial\; background-origin: initial\; background-clip: initial\; background-position: initial\; background-repeat: initial\;"><span data-mce-style="font-size: 9pt\; font-family: Arial\, sans-serif\;" style="font-size: 9pt\; font-family: Arial\, sans-serif\;">1 day</span></p>\n\n<p data-mce-style="margin: 12pt 0in\; background-image: initial\; background-attachment: initial\; background-size: initial\; background-origin: initial\; background-clip: initial\; background-position: initial\; background-repeat: initial\;" style="font-family: 'Helvetica Neue'\, Helvetica\, Arial\, sans-serif\; font-size: 13px\; line-height: 1.6em\; color: rgb(0\, 0\, 0)\; margin: 12pt 0in\; background-image: initial\; background-attachment: initial\; background-size: initial\; background-origin: initial\; background-clip: initial\; background-position: initial\; background-repeat: initial\;"><strong><span data-mce-style="font-size: 13.5pt\; font-family: Arial\, sans-serif\;" style="font-size: 13.5pt\; font-family: Arial\, sans-serif\;">Course Description</span></strong></p>\n\n<p data-mce-style="margin: 12pt 0in\; line-height: 12pt\; background-image: initial\; background-attachment: initial\; background-size: initial\; background-origin: initial\; background-clip: initial\; background-position: initial\; background-repeat: initial\;" style="font-family: 'Helvetica Neue'\, Helvetica\, Arial\, sans-serif\; font-size: 13px\; line-height: 12pt\; color: rgb(0\, 0\, 0)\; margin: 12pt 0in\; background-image: initial\; background-attachment: initial\; background-size: initial\; background-origin: initial\; background-clip: initial\; background-position: initial\; background-repeat: initial\;"><strong><span data-mce-style="font-size: 9pt\; font-family: Arial\, sans-serif\;" style="font-size: 9pt\; font-family: Arial\, sans-serif\;">Overview:</span></strong></p>\n\n<p data-mce-style="margin: 0in 0in 12pt 12pt\; line-height: 12pt\; background-image: initial\; background-attachment: initial\; background-size: initial\; background-origin: initial\; background-clip: initial\; background-position: initial\; background-repeat: initial\;" style="font-family: 'Helvetica Neue'\, Helvetica\, Arial\, sans-serif\; font-size: 13px\; line-height: 12pt\; color: rgb(0\, 0\, 0)\; margin: 0in 0in 12pt 12pt\; background-image: initial\; background-attachment: initial\; background-size: initial\; background-origin: initial\; background-clip: initial\; background-position: initial\; background-repeat: initial\;"><span data-mce-style="font-size: 9pt\; font-family: Arial\, sans-serif\;" style="font-size: 9pt\; font-family: Arial\, sans-serif\;">Welcome to&nbsp\;<em>Using Microsoft&reg\; Windows&reg\; 8.1</em>. Whether you&rsquo\;re new to computers or have used them in the past\, this class will help you become more comfortable using a personal computer (PC) and\, more specifically\, the Windows 8.1 interface. This course will help you to define what a PC is\, and familiarize you with the Windows 8.1 user interface and its basic capabilities. In this course\, you will explore Windows 8.1 and learn how to create documents\, send email\, browse the Internet\, and share information between applications and with other users.</span></p>\n\n<p data-mce-style="margin: 12pt 0in\; line-height: 12pt\; background-image: initial\; background-attachment: initial\; background-size: initial\; background-origin: initial\; background-clip: initial\; background-position: initial\; background-repeat: initial\;" style="font-family: 'Helvetica Neue'\, Helvetica\, Arial\, sans-serif\; font-size: 13px\; line-height: 12pt\; color: rgb(0\, 0\, 0)\; margin: 12pt 0in\; background-image: initial\; background-attachment: initial\; background-size: initial\; background-origin: initial\; background-clip: initial\; background-position: initial\; background-repeat: initial\;"><strong><span data-mce-style="font-size: 9pt\; font-family: Arial\, sans-serif\;" style="font-size: 9pt\; font-family: Arial\, sans-serif\;">Course Objectives:</span></strong></p>\n\n<p data-mce-style="margin: 0in 0in 12pt 12pt\; line-height: 12pt\; background-image: initial\; background-attachment: initial\; background-size: initial\; background-origin: initial\; background-clip: initial\; background-position: initial\; background-repeat: initial\;" style="font-family: 'Helvetica Neue'\, Helvetica\, Arial\, sans-serif\; font-size: 13px\; line-height: 12pt\; color: rgb(0\, 0\, 0)\; margin: 0in 0in 12pt 12pt\; background-image: initial\; background-attachment: initial\; background-size: initial\; background-origin: initial\; background-clip: initial\; background-position: initial\; background-repeat: initial\;"><span data-mce-style="font-size: 9pt\; font-family: Arial\, sans-serif\;" style="font-size: 9pt\; font-family: Arial\, sans-serif\;">Upon successful completion of this course\, you will be able to perform basic work-related tasks on a PC running the Windows 8.1 operating system.</span></p>\n\n<p data-mce-style="margin: 0in 0in 12pt 12pt\; line-height: 12pt\; background-image: initial\; background-attachment: initial\; background-size: initial\; background-origin: initial\; background-clip: initial\; background-position: initial\; background-repeat: initial\;" style="font-family: 'Helvetica Neue'\, Helvetica\, Arial\, sans-serif\; font-size: 13px\; line-height: 12pt\; color: rgb(0\, 0\, 0)\; margin: 0in 0in 12pt 12pt\; background-image: initial\; background-attachment: initial\; background-size: initial\; background-origin: initial\; background-clip: initial\; background-position: initial\; background-repeat: initial\;"><span data-mce-style="font-size: 9pt\; font-family: Arial\, sans-serif\;" style="font-size: 9pt\; font-family: Arial\, sans-serif\;">You will:</span></p>\n\n<ul style="color: rgb(0\, 0\, 0)\; font-family: Verdana\, Arial\, Helvetica\, sans-serif\; font-size: 10px\;">\n	<li><span data-mce-style="font-size: 9pt\; font-family: Arial\, sans-serif\;" style="font-size: 9pt\; font-family: Arial\, sans-serif\;">Get to know PCs and the Windows 8.1 user interface.</span></li>\n	<li><span data-mce-style="font-size: 9pt\; font-family: Arial\, sans-serif\;" style="font-size: 9pt\; font-family: Arial\, sans-serif\;">Use Windows Store apps and navigation features.</span></li>\n	<li><span data-mce-style="font-size: 9pt\; font-family: Arial\, sans-serif\;" style="font-size: 9pt\; font-family: Arial\, sans-serif\;">Work with Desktop applications.</span></li>\n	<li><span data-mce-style="font-size: 9pt\; font-family: Arial\, sans-serif\;" style="font-size: 9pt\; font-family: Arial\, sans-serif\;">Use Internet Explorer 11.</span></li>\n	<li><span data-mce-style="font-size: 9pt\; font-family: Arial\, sans-serif\;" style="font-size: 9pt\; font-family: Arial\, sans-serif\;">Customize the Windows 8.1 environment.</span></li>\n	<li><span data-mce-style="font-size: 9pt\; font-family: Arial\, sans-serif\;" style="font-size: 9pt\; font-family: Arial\, sans-serif\;">Use Windows 8.1 security features.</span></li>\n</ul>\n\n<p data-mce-style="margin: 12pt 0in\; line-height: 12pt\; background-image: initial\; background-attachment: initial\; background-size: initial\; background-origin: initial\; background-clip: initial\; background-position: initial\; background-repeat: initial\;" style="font-family: 'Helvetica Neue'\, Helvetica\, Arial\, sans-serif\; font-size: 13px\; line-height: 12pt\; color: rgb(0\, 0\, 0)\; margin: 12pt 0in\; background-image: initial\; background-attachment: initial\; background-size: initial\; background-origin: initial\; background-clip: initial\; background-position: initial\; background-repeat: initial\;"><strong><span data-mce-style="font-size: 9pt\; font-family: Arial\, sans-serif\;" style="font-size: 9pt\; font-family: Arial\, sans-serif\;">Target Student:</span></strong></p>\n\n<p data-mce-style="margin: 0in 0in 12pt 12pt\; line-height: 12pt\; background-image: initial\; background-attachment: initial\; background-size: initial\; background-origin: initial\; background-clip: initial\; background-position: initial\; background-repeat: initial\;" style="font-family: 'Helvetica Neue'\, Helvetica\, Arial\, sans-serif\; font-size: 13px\; line-height: 12pt\; color: rgb(0\, 0\, 0)\; margin: 0in 0in 12pt 12pt\; background-image: initial\; background-attachment: initial\; background-size: initial\; background-origin: initial\; background-clip: initial\; background-position: initial\; background-repeat: initial\;"><span data-mce-style="font-size: 9pt\; font-family: Arial\, sans-serif\;" style="font-size: 9pt\; font-family: Arial\, sans-serif\;">This course is designed for any end user\, especially an individual new to computing\, who needs to use the features and functionality of the Windows 8.1 operating system for personal and/or professional reasons.</span></p>\n\n<p data-mce-style="margin: 12pt 0in\; line-height: 12pt\; background-image: initial\; background-attachment: initial\; background-size: initial\; background-origin: initial\; background-clip: initial\; background-position: initial\; background-repeat: initial\;" style="font-family: 'Helvetica Neue'\, Helvetica\, Arial\, sans-serif\; font-size: 13px\; line-height: 12pt\; color: rgb(0\, 0\, 0)\; margin: 12pt 0in\; background-image: initial\; background-attachment: initial\; background-size: initial\; background-origin: initial\; background-clip: initial\; background-position: initial\; background-repeat: initial\;"><strong><span data-mce-style="font-size: 9pt\; font-family: Arial\, sans-serif\;" style="font-size: 9pt\; font-family: Arial\, sans-serif\;">Prerequisites:</span></strong></p>\n\n<p data-mce-style="margin: 0in 0in 12pt 12pt\; line-height: 12pt\; background-image: initial\; background-attachment: initial\; background-size: initial\; background-origin: initial\; background-clip: initial\; background-position: initial\; background-repeat: initial\;" style="font-family: 'Helvetica Neue'\, Helvetica\, Arial\, sans-serif\; font-size: 13px\; line-height: 12pt\; color: rgb(0\, 0\, 0)\; margin: 0in 0in 12pt 12pt\; background-image: initial\; background-attachment: initial\; background-size: initial\; background-origin: initial\; background-clip: initial\; background-position: initial\; background-repeat: initial\;"><span data-mce-style="font-size: 9pt\; font-family: Arial\, sans-serif\;" style="font-size: 9pt\; font-family: Arial\, sans-serif\;">This course is intended for new computer users who want to use the basic tools and features of Windows 8.1. No particular prerequisite skills are required\, but any previous exposure to personal computers and the Internet is helpful.</span></p>\n
LOCATION:3 Riverchase Office Plaza\, Suite 114 Hoover\, Alabama 35244
UID:e.145.5515
SEQUENCE:3
DTSTAMP:20260423T151108Z
URL:https://business.shelbychamber.org/events/details/using-windows-8-1-06-11-2014-5515
END:VEVENT

END:VCALENDAR
