BEGIN:VCALENDAR
VERSION:2.0
PRODID:-//ChamberMaster//Event Calendar 2.0//EN
METHOD:PUBLISH
X-PUBLISHED-TTL:P3D
REFRESH-INTERVAL:P3D
CALSCALE:GREGORIAN
BEGIN:VEVENT
DTSTART:20140207T220000Z
DTEND:20140207T223000Z
X-MICROSOFT-CDO-ALLDAYEVENT:FALSE
SUMMARY:Valentine Craft
DESCRIPTION:This owl thinks it's wise to keep all your Valentine's Day cards in one spot. All ages welcome. Registration is required.
X-ALT-DESC;FMTTYPE=text/html:This owl thinks it&#39\;s wise to keep all your Valentine&#39\;s Day cards in one spot. All ages welcome. Registration is required. 
LOCATION:North Shelby Library
UID:e.145.5014
SEQUENCE:3
DTSTAMP:20260423T212751Z
URL:https://business.shelbychamber.org/events/details/valentine-craft-02-07-2014-5014
END:VEVENT

END:VCALENDAR
