BEGIN:VCALENDAR
VERSION:2.0
PRODID:-//ChamberMaster//Event Calendar 2.0//EN
METHOD:PUBLISH
X-PUBLISHED-TTL:P3D
REFRESH-INTERVAL:P3D
CALSCALE:GREGORIAN
BEGIN:VEVENT
DTSTART;VALUE=DATE:20120214
DTEND;VALUE=DATE:20120215
TRANSP:TRANSPARENT
X-MICROSOFT-CDO-ALLDAYEVENT:TRUE
SUMMARY:Valentine's Day Celebration
DESCRIPTION:Celebrate Valentine's Day with Us!\n\n	- Hotel Guest Packages\n\n	- Lovers Around the World Dinner\n\n	- Spa Specials\n\n	* Valid the Month of February*\n\n	 \n\n	Make Your Reservation Today!
X-ALT-DESC;FMTTYPE=text/html:<p class="MsoNormal">\n	Celebrate Valentine&rsquo\;s Day with Us!</p>\n<p class="MsoNormal">\n	- Hotel Guest Packages</p>\n<p class="MsoNormal">\n	- Lovers Around the World Dinner</p>\n<p class="MsoNormal">\n	- Spa Specials</p>\n<p class="MsoNormal">\n	* Valid the Month of February*</p>\n<p class="MsoNormal">\n	&nbsp\;</p>\n<p class="MsoNormal">\n	Make Your Reservation Today!</p>\n
LOCATION:Hotel Fredonia 200 North Fredonia Street Nacogdoches\, TX 75961
UID:e.145.3914
SEQUENCE:3
DTSTAMP:20260425T115838Z
URL:https://business.shelbychamber.org/events/details/valentine-s-day-celebration-02-14-2012-3914
END:VEVENT

END:VCALENDAR
