BEGIN:VCALENDAR
VERSION:2.0
PRODID:-//ChamberMaster//Event Calendar 2.0//EN
METHOD:PUBLISH
X-PUBLISHED-TTL:P3D
REFRESH-INTERVAL:P3D
CALSCALE:GREGORIAN
BEGIN:VEVENT
DTSTART:20140215T020000Z
DTEND:20140215T040000Z
X-MICROSOFT-CDO-ALLDAYEVENT:FALSE
SUMMARY:Valentine's Show with Gabriel Tajeu
DESCRIPTION:This singer song writer will debut his newest cd of unique adult contemporary songs. Gabriel's style is modern folk influenced by today's rhythm and blues. Expect a great performance of smooth\, romantic tunes from Gabriel and his excellent band. You better catch this guy before he hits the "big time".
X-ALT-DESC;FMTTYPE=text/html:This singer song writer will debut his newest cd of unique adult contemporary songs. Gabriel&#39\;s style is modern folk influenced by today&#39\;s rhythm and blues. Expect a great performance of smooth\, romantic tunes from Gabriel and his excellent band. You better catch this guy before he hits the &quot\;big time&quot\;. 
LOCATION:Shelby County Arts Council
UID:e.145.4915
SEQUENCE:3
DTSTAMP:20260423T213145Z
URL:https://business.shelbychamber.org/events/details/valentine-s-show-with-gabriel-tajeu-02-14-2014-4915
END:VEVENT

END:VCALENDAR
