BEGIN:VCALENDAR
VERSION:2.0
PRODID:-//ChamberMaster//Event Calendar 2.0//EN
METHOD:PUBLISH
X-PUBLISHED-TTL:P3D
REFRESH-INTERVAL:P3D
CALSCALE:GREGORIAN
BEGIN:VEVENT
DTSTART;VALUE=DATE:20160115
DTEND;VALUE=DATE:20160213
TRANSP:TRANSPARENT
X-MICROSOFT-CDO-ALLDAYEVENT:TRUE
SUMMARY:Valentines for Children's Hospital
DESCRIPTION:North Shelby and Mt Laurel Libraries will be collecting Valentine Cards for kids in Children's Hospital. You can stop by either library to make a card or bring by a store-bought card. No candy please. Cards must be dropped off by Friday\, February 12th.
X-ALT-DESC;FMTTYPE=text/html:<span style="font-family:calibri light\,sans-serif">North Shelby and Mt Laurel Libraries will be collecting Valentine Cards for kids in Children&rsquo\;s Hospital. You can stop by either library to make a card or bring by a store-bought card. No candy please. Cards must be dropped off by Friday\, February 12th.</span>
LOCATION:North Shelby Library\, 5521 Cahaba Valley Road\, Birmingham AL 35242
UID:e.145.8265
SEQUENCE:3
DTSTAMP:20260422T093438Z
URL:https://business.shelbychamber.org/events/details/valentines-for-children-s-hospital-01-15-2016-8265
END:VEVENT

END:VCALENDAR
