BEGIN:VCALENDAR
VERSION:2.0
PRODID:-//ChamberMaster//Event Calendar 2.0//EN
METHOD:PUBLISH
X-PUBLISHED-TTL:P3D
REFRESH-INTERVAL:P3D
CALSCALE:GREGORIAN
BEGIN:VEVENT
DTSTART:20160308T163000Z
DTEND:20160308T173000Z
X-MICROSOFT-CDO-ALLDAYEVENT:FALSE
SUMMARY:Vegetable Garden Planting
DESCRIPTION:We're planting a vegetable garden\, and we want your help! Join us for some STEM fun as science professionals from the Alabama Green Industry Training Center teach us how to plan\, start\, and maintain a garden full of healthy\, yummy vegetables. Be sure to wear clothes that can get dirty\, because this science program will be hands-on fun! Ages 5   12. Registration required.
X-ALT-DESC;FMTTYPE=text/html:<span style="font-family:calibri light\,sans-serif"><span style="font-size:12.0pt">We&rsquo\;re planting a vegetable garden\, and we want your help! Join us for some STEM fun as science professionals from the Alabama Green Industry Training Center teach us how to plan\, start\, and maintain a garden full of healthy\, yummy vegetables. Be sure to wear clothes that can get dirty\, because this science program will be hands-on fun! Ages 5 &ndash\; 12. Registration required.&nbsp\;</span></span>
LOCATION:North Shelby Library
UID:e.145.8359
SEQUENCE:3
DTSTAMP:20260422T074959Z
URL:https://business.shelbychamber.org/events/details/vegetable-garden-planting-03-08-2016-8359
END:VEVENT

END:VCALENDAR
