BEGIN:VCALENDAR
VERSION:2.0
PRODID:-//ChamberMaster//Event Calendar 2.0//EN
METHOD:PUBLISH
X-PUBLISHED-TTL:P3D
REFRESH-INTERVAL:P3D
CALSCALE:GREGORIAN
BEGIN:VEVENT
DTSTART:20150316T153000Z
DTEND:20150316T170000Z
X-MICROSOFT-CDO-ALLDAYEVENT:FALSE
SUMMARY:Vegetable Gardening 101: Come and learn the basics of growing your own vegetables
DESCRIPTION:Vegetable Gardening 101: Come learn the basics of growing your own vegetables!\n\nTopics will cover soil preparation\, planting tips\, and harvesting techniques.\n\nLight Lunch will be served.\n\n$5.00 fee for this program.\n\nProgram presented by: Bethany O'Rear\, Regional Extension Agent\, Jefferson County\, Alabama Extension
X-ALT-DESC;FMTTYPE=text/html:<p>Vegetable Gardening 101: Come learn the basics of growing your own vegetables!<br />\nTopics will cover soil preparation\, planting tips\, and harvesting techniques.</p>\n\n<p><span style="line-height:1.6">Light Lunch will be served.</span></p>\n\n<p>$5.00 fee for this program.</p>\n\n<p>Program presented by: Bethany O&rsquo\;Rear\, Regional Extension Agent\, Jefferson County\, Alabama Extension</p>\n
LOCATION:North Shelby Library
UID:e.145.7582
SEQUENCE:3
DTSTAMP:20260423T022504Z
URL:https://business.shelbychamber.org/events/details/vegetable-gardening-101-come-and-learn-the-basics-of-growing-your-own-vegetables-03-16-2015-7582
END:VEVENT

END:VCALENDAR
