BEGIN:VCALENDAR
VERSION:2.0
PRODID:-//ChamberMaster//Event Calendar 2.0//EN
METHOD:PUBLISH
X-PUBLISHED-TTL:P3D
REFRESH-INTERVAL:P3D
CALSCALE:GREGORIAN
BEGIN:VEVENT
DTSTART;VALUE=DATE:20110407
DTEND;VALUE=DATE:20110429
TRANSP:TRANSPARENT
X-MICROSOFT-CDO-ALLDAYEVENT:TRUE
SUMMARY:Violin Lessons
DESCRIPTION:-Classical training provided\n\n-Learn music theory and technique\n\n\n\nClasses available from beginner to advanced
X-ALT-DESC;FMTTYPE=text/html:-Classical training provided<br />\n-Learn music theory and technique<br />\n<br />\nClasses available from beginner to advanced
LOCATION:Shelby County Arts Council - Columbiana
UID:e.145.3286
SEQUENCE:3
DTSTAMP:20260426T033651Z
URL:https://business.shelbychamber.org/events/details/violin-lessons-04-07-2011-3286
END:VEVENT

END:VCALENDAR
