BEGIN:VCALENDAR
VERSION:2.0
PRODID:-//ChamberMaster//Event Calendar 2.0//EN
METHOD:PUBLISH
X-PUBLISHED-TTL:P3D
REFRESH-INTERVAL:P3D
CALSCALE:GREGORIAN
BEGIN:VEVENT
DTSTART;VALUE=DATE:20110602
DTEND;VALUE=DATE:20110701
TRANSP:TRANSPARENT
X-MICROSOFT-CDO-ALLDAYEVENT:TRUE
SUMMARY:Violin Lessons
DESCRIPTION:-Classical training provided\n\n-Learn music theory and technique\n\n\n\nClasses available from beginner to advanced
X-ALT-DESC;FMTTYPE=text/html:-Classical training provided\n<br>-Learn music theory and technique\n<br>\n<br>Classes available from beginner to advanced\n<br>
LOCATION:Shelby County Arts Council ? Columbiana
UID:e.145.3314
SEQUENCE:3
DTSTAMP:20260426T021647Z
URL:https://business.shelbychamber.org/events/details/violin-lessons-06-02-2011-3314
END:VEVENT

END:VCALENDAR
