BEGIN:VCALENDAR
VERSION:2.0
PRODID:-//ChamberMaster//Event Calendar 2.0//EN
METHOD:PUBLISH
X-PUBLISHED-TTL:P3D
REFRESH-INTERVAL:P3D
CALSCALE:GREGORIAN
BEGIN:VEVENT
DTSTART:20150814T230000Z
DTEND:20150815T000000Z
X-MICROSOFT-CDO-ALLDAYEVENT:FALSE
SUMMARY:Visiting Author: Kyle Hannah
DESCRIPTION:The Shelby County Arts Council Welcomes author R. Kyle Hannah for an author talk and book signing on August 14\, 2015 at 6pm. Admission is free.\n\nR. Kyle Hannah has served in the US Military for over 28 years as a Finance Officer\, Logistics Officer and a host of other positions. He is slated to retire in 2015 and hopes to devote more time to writing.\n\n\n\nHis love for writing stems from a love for reading\, especially sci-fi and fantasy. His favorite authors include Robert Heinlein\, John Scalzi and William C Dietz.\n\n\n\nHe is the author of several short stories and three novels: ASSASSIN'S GAMBIT\, TIME ASSASSINS\, and TO AID AND PROTECT. He has several projects in the works\, including HARVEST DAY\, THE JAKE CUTTER CONSPIRACY\, HYPERION\, and ATLANTIS FALLING.\n\n\n\nHe is married with two children and lives in the suburbs of Birmingham\, Alabama.\n\nThe event is sponsored in part by: The Alabama Humanities Foundation and the Daniel Foundation.
X-ALT-DESC;FMTTYPE=text/html:<p>The Shelby County Arts Council Welcomes author R. Kyle Hannah for an author talk and book signing on August 14\, 2015 at 6pm. Admission is free.</p>\n\n<p>R. Kyle Hannah has served in the US Military for over 28 years as a Finance Officer\, Logistics Officer and a host of other positions. He is slated to retire in 2015 and hopes to devote more time to writing.<br />\n<br />\nHis love for writing stems from a love for reading\, especially sci-fi and fantasy. His favorite authors include Robert Heinlein\, John Scalzi and William C Dietz.<br />\n<br />\nHe is the author of several short stories and three novels: ASSASSIN&#39\;S GAMBIT\, TIME ASSASSINS\, and TO AID AND PROTECT. He has several projects in the works\, including HARVEST DAY\, THE JAKE CUTTER CONSPIRACY\, HYPERION\, and ATLANTIS FALLING.<br />\n<br />\nHe is married with two children and lives in the suburbs of Birmingham\, Alabama.</p>\n\n<p>The event is sponsored in part by: The Alabama Humanities Foundation and the Daniel Foundation.</p>\n
LOCATION:Shelby County Arts Council\, 104 Mildred Street\, Columbiana\, AL 35051
UID:e.145.7767
SEQUENCE:3
DTSTAMP:20260422T182906Z
URL:https://business.shelbychamber.org/events/details/visiting-author-kyle-hannah-08-14-2015-7767
END:VEVENT

END:VCALENDAR
