BEGIN:VCALENDAR
VERSION:2.0
PRODID:-//ChamberMaster//Event Calendar 2.0//EN
METHOD:PUBLISH
X-PUBLISHED-TTL:P3D
REFRESH-INTERVAL:P3D
CALSCALE:GREGORIAN
BEGIN:VEVENT
DTSTART:20140503T000000Z
DTEND:20140503T010000Z
X-MICROSOFT-CDO-ALLDAYEVENT:FALSE
SUMMARY:Visiting Writer - Carolyn Haines\, Book Talk and Signing
DESCRIPTION:VISITING WRITERS SERIES Meet author Carolyn Haines Friday\, May 2\, 2014\, 7pm Shelby County Arts Council\, 104 Mildred Street\, Columbiana Free Event! Bring Your Friends Sample recipes from ?Bone-A-Fied Delicious? Bring your copy of one of Carolyn?s books to have signed or purchase one here! Carolyn Haines is the author of the Sarah Booth Delaney Mississippi Delta mystery series\, the latest will be BOOTY BONES (May 2014) and writing as R.B. Chesterton\, two dark novels\, THE DARKLING and THE SEEKER (March 2014). She has published in a number of genres including short fiction\, general fiction\, mystery\, crime\, suspense\, romantic mystery\, and nonfiction. In 2010\, she received the Harper Lee Award for Distinguished Writing and in 2009\, the Richard Wright Award for Literary Excellence. She is also the recipient of an Alabama Writing Fellowship from the Alabama State Council on the Arts. She teaches graduate and undergraduate fiction at the University of South Alabama and is the president of Good Fortune Farm Refuge\, an animal rescue that focuses on spay/neutering companion animals. The cookbook she recently produced with a coalition of readers and friends\, Bone-A-Fied Delicious\, Recipes from Zinnia's Finest Chefs\, is a fund-raiser for the animal rescue.
X-ALT-DESC;FMTTYPE=text/html:VISITING WRITERS SERIES Meet author Carolyn Haines Friday\, May 2\, 2014\, 7pm Shelby County Arts Council\, 104 Mildred Street\, Columbiana Free Event! Bring Your Friends Sample recipes from ?Bone-A-Fied Delicious? Bring your copy of one of Carolyn?s books to have signed or purchase one here! Carolyn Haines is the author of the Sarah Booth Delaney Mississippi Delta mystery series\, the latest will be BOOTY BONES (May 2014) and writing as R.B. Chesterton\, two dark novels\, THE DARKLING and THE SEEKER (March 2014). She has published in a number of genres including short fiction\, general fiction\, mystery\, crime\, suspense\, romantic mystery\, and nonfiction. In 2010\, she received the Harper Lee Award for Distinguished Writing and in 2009\, the Richard Wright Award for Literary Excellence. She is also the recipient of an Alabama Writing Fellowship from the Alabama State Council on the Arts. She teaches graduate and undergraduate fiction at the University of South Alabama and is the president of Good Fortune Farm Refuge\, an animal rescue that focuses on spay/neutering companion animals. The cookbook she recently produced with a coalition of readers and friends\, Bone-A-Fied Delicious\, Recipes from Zinnia&#39\;s Finest Chefs\, is a fund-raiser for the animal rescue.
LOCATION:Shelby County Arts Council 104 Mildred Street Columbiana\, AL 35051
UID:e.145.5340
SEQUENCE:3
DTSTAMP:20260423T165503Z
URL:https://business.shelbychamber.org/events/details/visiting-writer-carolyn-haines-book-talk-and-signing-05-02-2014-5340
END:VEVENT

END:VCALENDAR
