BEGIN:VCALENDAR
VERSION:2.0
PRODID:-//ChamberMaster//Event Calendar 2.0//EN
METHOD:PUBLISH
X-PUBLISHED-TTL:P3D
REFRESH-INTERVAL:P3D
CALSCALE:GREGORIAN
BEGIN:VEVENT
DTSTART:20150814T230000Z
DTEND:20150815T010000Z
X-MICROSOFT-CDO-ALLDAYEVENT:FALSE
SUMMARY:Visiting Writer Series-Kyle Hannah
DESCRIPTION:On August 14th R. Kyle Hannah stops by with his latest novel in the Time Assassins series\, Assassin's Gambit. Along with serving in the military\, Hannah has penned several short stories and three novels. As an avid reader of sci-fi and fantasy\, Hannah was inspired to write his own fictional stories. Assassin's Gambit weaves time travel\, history\, action and adventure in to one exciting novel. You will be up until the wee hours of the morning with this story!
X-ALT-DESC;FMTTYPE=text/html:<p>On August 14<sup>th</sup> R. Kyle Hannah stops by with his latest novel in the <em>Time Assassins</em> series\, <em>Assassin&#39\;s Gambit.</em> Along with serving in the military\, Hannah has penned several short stories and three novels. As an avid reader of sci-fi and fantasy\, Hannah was inspired to write his own fictional stories. <em>Assassin&#39\;s Gambit</em> weaves time travel\, history\, action and adventure in to one exciting novel. You will be up until the wee hours of the morning with this story!</p>\n
LOCATION:Shelby County Arts Council
UID:e.145.7721
SEQUENCE:3
DTSTAMP:20260422T195700Z
URL:https://business.shelbychamber.org/events/details/visiting-writer-series-kyle-hannah-08-14-2015-7721
END:VEVENT

END:VCALENDAR
